BEGIN:VCALENDAR
VERSION:2.0
PRODID:-//Peclab - ECPv6.15.11//NONSGML v1.0//EN
CALSCALE:GREGORIAN
METHOD:PUBLISH
X-WR-CALNAME:Peclab
X-ORIGINAL-URL:https://pecantigo.com.br
X-WR-CALDESC:Eventos para Peclab
REFRESH-INTERVAL;VALUE=DURATION:PT1H
X-Robots-Tag:noindex
X-PUBLISHED-TTL:PT1H
BEGIN:VTIMEZONE
TZID:America/Sao_Paulo
BEGIN:STANDARD
TZOFFSETFROM:-0200
TZOFFSETTO:-0300
TZNAME:-03
DTSTART:20180218T020000
END:STANDARD
BEGIN:DAYLIGHT
TZOFFSETFROM:-0300
TZOFFSETTO:-0200
TZNAME:-02
DTSTART:20181104T030000
END:DAYLIGHT
BEGIN:STANDARD
TZOFFSETFROM:-0200
TZOFFSETTO:-0300
TZNAME:-03
DTSTART:20190217T020000
END:STANDARD
END:VTIMEZONE
BEGIN:VEVENT
DTSTART;VALUE=DATE:20191005
DTEND;VALUE=DATE:20191006
DTSTAMP:20260423T132348
CREATED:20190925T123659Z
LAST-MODIFIED:20190925T123659Z
UID:6735-1570233600-1570319999@pecantigo.com.br
SUMMARY:HANDS ON PARA INSTALAÇÃO DO MARPE | PECLAB
DESCRIPTION:Hands on para instalação do MARPE ministrado pela professora Dra. Juliana Andriani. \nContato: \n48 3228 9246\n48 9 8452 8330
URL:https://pecantigo.com.br/agenda/hands-on-para-instalacao-do-marpe-peclab-juliana-andriani/
LOCATION:ABCD Magic School  Florianópolis – SC
CATEGORIES:Santa Catarina
END:VEVENT
BEGIN:VEVENT
DTSTART;VALUE=DATE:20191001
DTEND;VALUE=DATE:20191002
DTSTAMP:20260423T132348
CREATED:20190925T123510Z
LAST-MODIFIED:20190925T123510Z
UID:6732-1569888000-1569974399@pecantigo.com.br
SUMMARY:ESPECIALIZAÇÃO  EM ORTODONTIA | PECLAB
DESCRIPTION:Especialização em Ortodontia – Turma ESP 43 – ministrado pelo professor Dr. Bruno da Silva Vieira. \nContato: 31 3524 2555
URL:https://pecantigo.com.br/agenda/especializacao-em-ortodontia-peclab-bruno-vieira/
LOCATION:CETRO  Belo Horizonte – MG
CATEGORIES:Minas Gerais
END:VEVENT
BEGIN:VEVENT
DTSTART;VALUE=DATE:20190928
DTEND;VALUE=DATE:20190929
DTSTAMP:20260423T132348
CREATED:20190827T190247Z
LAST-MODIFIED:20190827T190247Z
UID:6500-1569628800-1569715199@pecantigo.com.br
SUMMARY:CURSO DA TÉCNICA MARPE | PECLAB
DESCRIPTION:Curso de MARPE ministrado pelo professor Dr. Fernando Manhães. \nInstituição: Fernando Manhães Cursos. \nEmail: fernando@fmanhaes.odo.br
URL:https://pecantigo.com.br/agenda/curso-da-tecnica-marpe-peclab-manhaes/
LOCATION:Instituição: Fernando Manhães Cursos
END:VEVENT
BEGIN:VEVENT
DTSTART;VALUE=DATE:20190927
DTEND;VALUE=DATE:20190929
DTSTAMP:20260423T132348
CREATED:20190805T205454Z
LAST-MODIFIED:20190828T172153Z
UID:6348-1569542400-1569715199@pecantigo.com.br
SUMMARY:MARPE E EXTRA-ALVEOLAR | PECLAB
DESCRIPTION:MARPE\nMARPE e Extra-Alveolar ministrado pelo Dr. Alexandre Magno dos Santos. \nContato: 31 3458 1097
URL:https://pecantigo.com.br/agenda/marpe-e-extra-alveolar-peclab-alexandre-magno/
LOCATION:São José dos Campos – SP
CATEGORIES:São Paulo
END:VEVENT
BEGIN:VEVENT
DTSTART;VALUE=DATE:20190923
DTEND;VALUE=DATE:20190929
DTSTAMP:20260423T132348
CREATED:20190829T151853Z
LAST-MODIFIED:20190829T152456Z
UID:6518-1569196800-1569715199@pecantigo.com.br
SUMMARY:IMERSÃO EM ORTODONTIA BIOCRIATIVA | PECLAB
DESCRIPTION:BIOCRIATIVA\nImersão em Ortodontia Biocriativa ministrado pelo professor Dr. Luiz Fernando Eto. \n 
URL:https://pecantigo.com.br/agenda/imersao-em-ortodontia-biocriativa-peclab/
LOCATION:BELO HORIZONTE
CATEGORIES:Minas Gerais
END:VEVENT
BEGIN:VEVENT
DTSTART;VALUE=DATE:20190920
DTEND;VALUE=DATE:20190922
DTSTAMP:20260423T132348
CREATED:20190731T142008Z
LAST-MODIFIED:20190731T142228Z
UID:6277-1568937600-1569110399@pecantigo.com.br
SUMMARY:CURSO DE IMERSÃO EM MINI-IMPLANTES E MARPE | PECLAB
DESCRIPTION:IMERSÃO\nCurso de Imersão em Mini-Implantes e Marpe ministrado pelos professores Dr. Túlio Andrade e Dr. Daniel Figueiredo. \n  \n 
URL:https://pecantigo.com.br/agenda/curso-de-imersao-em-mini-implantes-e-marpe-peclab/
LOCATION:Sumaré – SP
CATEGORIES:São Paulo
ATTACH;FMTTYPE=image/jpeg:https://pecantigo.com.br/wp-content/uploads/2019/07/Card-Insta-e-Whats-parte1-Curso-MARPE_20-21-SET.jpg
END:VEVENT
BEGIN:VEVENT
DTSTART;VALUE=DATE:20190913
DTEND;VALUE=DATE:20190915
DTSTAMP:20260423T132348
CREATED:20190821T170640Z
LAST-MODIFIED:20190821T171025Z
UID:6464-1568332800-1568505599@pecantigo.com.br
SUMMARY:MINI-IMPLANTE EXTRA-ALVEOLAR | PECLAB
DESCRIPTION:MINI-IMPLANTE\nCurso de Mini-Implante Extra-Alveolar ministrado pelo Dr. Caio do Valle. \nContato: (14) 3234-1919 / 3879-0061 / 9 9611-3489 / Whatsapp: 9 9654-4386
URL:https://pecantigo.com.br/agenda/mini-implante-extra-alveolar-peclab-caio-valle/
LOCATION:Instituto de Ensino Odontológico IEO (Bauru – SP)
CATEGORIES:São Paulo
ATTACH;FMTTYPE=image/jpeg:https://pecantigo.com.br/wp-content/uploads/2019/08/Curso-Dr.-Caio-Valle-13-e-14.09.2019-1.jpeg
END:VEVENT
BEGIN:VEVENT
DTSTART;VALUE=DATE:20190913
DTEND;VALUE=DATE:20190914
DTSTAMP:20260423T132348
CREATED:20190812T184744Z
LAST-MODIFIED:20190812T185944Z
UID:6409-1568332800-1568419199@pecantigo.com.br
SUMMARY:TRATAMENTO DE PACIENTE EM CRESCIMENTO: DA DENTADURA DECÍDUA À PERMANENTE | PECLAB
DESCRIPTION:TRATAMENTO\nTratamento de Paciente em Crescimento: Da Dentadura Decídua à permanente ministrado pelo professor Dr. Marcos Janson.
URL:https://pecantigo.com.br/agenda/tratamento-de-paciente-em-crescimento-da-dentadura-decidua-a-permanente-peclab/
CATEGORIES:Minas Gerais
ATTACH;FMTTYPE=image/jpeg:https://pecantigo.com.br/wp-content/uploads/2019/08/Dr.-Marcos-Janson-13.09.2019.jpeg
END:VEVENT
BEGIN:VEVENT
DTSTART;VALUE=DATE:20190913
DTEND;VALUE=DATE:20190914
DTSTAMP:20260423T132348
CREATED:20190805T204506Z
LAST-MODIFIED:20190805T204536Z
UID:6339-1568332800-1568419199@pecantigo.com.br
SUMMARY:AVANÇADO EM ORTODONTIA  | PECLAB
DESCRIPTION:AVANÇADO\nAvançado em Ortodontia ministrado pelo Dr. Francis Cazelli Thompson. \nContato: 27 3349 4141
URL:https://pecantigo.com.br/agenda/avancado-em-ortodontia-peclab-francis-thompson/
LOCATION:Instituto de Especialidades Odontológicas | Vitória – ES
CATEGORIES:Espírito Santo
END:VEVENT
BEGIN:VEVENT
DTSTART;VALUE=DATE:20190913
DTEND;VALUE=DATE:20190914
DTSTAMP:20260423T132348
CREATED:20190805T204043Z
LAST-MODIFIED:20190805T204043Z
UID:6336-1568332800-1568419199@pecantigo.com.br
SUMMARY:DIAGNÓSTICO E PLANEJAMENTO EM ORTODONTIA | PECLAB
DESCRIPTION:PLANEJAMENTO\nDiagnóstico e Planejamento em Ortodontia proferido pela Dra. Juliana da Silva Pereira Andriani. \nContato: \n48 9 9169 9181\n48 9 8805 1595
URL:https://pecantigo.com.br/agenda/diagnostico-e-planejamento-em-ortodontia-peclab/
LOCATION:Academia da Odontologia Florianópolis – SC
CATEGORIES:Santa Catarina
END:VEVENT
BEGIN:VEVENT
DTSTART;VALUE=DATE:20190912
DTEND;VALUE=DATE:20190915
DTSTAMP:20260423T132348
CREATED:20190828T172028Z
LAST-MODIFIED:20190903T164401Z
UID:5749-1568246400-1568505599@pecantigo.com.br
SUMMARY:CURSO DE IMERSÃO EM MARPE E EXTRA-ALVEOLARES | PECLAB
DESCRIPTION:IMERSÃO\nImersão MARPE e Extra Alveolares ministrado pelo professor Dr. Túlio Andrade. \nLocal: Colatina/ES \nContato: 27 9 9976 7723
URL:https://pecantigo.com.br/agenda/curso-imersao-marpe-ea-tulio-andrade-colatina-es/
LOCATION:COLATINA
CATEGORIES:Espírito Santo
END:VEVENT
BEGIN:VEVENT
DTSTART;VALUE=DATE:20190912
DTEND;VALUE=DATE:20190913
DTSTAMP:20260423T132348
CREATED:20190828T172015Z
LAST-MODIFIED:20190828T172015Z
UID:6513-1568246400-1568332799@pecantigo.com.br
SUMMARY:AULA LIGA DE ORTODONTIA | PECLAB
DESCRIPTION:Aula Liga de Ortodontia ministrado pelo Dr. Bruno Leonardo Pereira Rocha. \nContato: 31 3409 2426
URL:https://pecantigo.com.br/agenda/aula-liga-de-ortodontia-peclab-bruno-leonardo/
LOCATION:UFMG/Belo Horizonte
CATEGORIES:Minas Gerais
END:VEVENT
BEGIN:VEVENT
DTSTART;VALUE=DATE:20190911
DTEND;VALUE=DATE:20190913
DTSTAMP:20260423T132348
CREATED:20190805T203808Z
LAST-MODIFIED:20190805T203808Z
UID:6333-1568160000-1568332799@pecantigo.com.br
SUMMARY:ESPECIALIZAÇÃO EM ORTODONTIA | PECLAB
DESCRIPTION:ESPECIALIZAÇÃO\nEspecialização em Ortodontia  ministrado pela Dra. Andrea Damasceno Rocha. \nContato: 38 3218 7575
URL:https://pecantigo.com.br/agenda/especializacao-em-ortodontia-peclab-andrea-damasceno/
LOCATION:IMED Montes Claros – MG
CATEGORIES:Minas Gerais
END:VEVENT
BEGIN:VEVENT
DTSTART;VALUE=DATE:20190909
DTEND;VALUE=DATE:20190910
DTSTAMP:20260423T132348
CREATED:20190805T203447Z
LAST-MODIFIED:20190805T203523Z
UID:6329-1567987200-1568073599@pecantigo.com.br
SUMMARY:IMERSÃO EM MINI-IMPLANTES ORTODÔNTICOS | PECLAB
DESCRIPTION:IMERSÃO\nImersão em Mini-Implantes Ortodônticos  ministrado pela Dra. Rayane de Oliveira Pinto. \nContato: 14 3204 0757
URL:https://pecantigo.com.br/agenda/imersao-em-mini-implantes-ortodonticos-peclab/
LOCATION:Inst. Odont. De Pós-Graduação  Bauru – SP
CATEGORIES:São Paulo
END:VEVENT
BEGIN:VEVENT
DTSTART;VALUE=DATE:20190906
DTEND;VALUE=DATE:20190908
DTSTAMP:20260423T132348
CREATED:20190805T203127Z
LAST-MODIFIED:20190805T203127Z
UID:6326-1567728000-1567900799@pecantigo.com.br
SUMMARY:AVANÇADO EM MINI-IMPLANTES | PECLAB
DESCRIPTION:CURSO AVANÇADO\nAvançado em Mini-Implantes ministrado pelo Dr. Ivankleison Lima Silva. \nContato: 82 3235 1008
URL:https://pecantigo.com.br/agenda/avancado-em-mini-implantes-peclab/
LOCATION:ABO – AL  Maceió – AL
CATEGORIES:Alagoas
END:VEVENT
BEGIN:VEVENT
DTSTART;VALUE=DATE:20190906
DTEND;VALUE=DATE:20190907
DTSTAMP:20260423T132348
CREATED:20190805T202854Z
LAST-MODIFIED:20190805T202854Z
UID:6323-1567728000-1567814399@pecantigo.com.br
SUMMARY:ESPECIALIZAÇÃO EM ORTODONTIA | PECLAB
DESCRIPTION:ESPECIALIZAÇÃO\nEspecialização em Ortodontia ministrado pelo Dr. Andres Fernando Montenegro. \nContato: 42 3219 8000
URL:https://pecantigo.com.br/agenda/especializacao-em-ortodontia-peclab-andres-montenegro/
LOCATION:Cescage Ponta Grossa – PR
CATEGORIES:Paraná
END:VEVENT
BEGIN:VEVENT
DTSTART;VALUE=DATE:20190906
DTEND;VALUE=DATE:20190907
DTSTAMP:20260423T132348
CREATED:20190805T202621Z
LAST-MODIFIED:20190805T202621Z
UID:6320-1567728000-1567814399@pecantigo.com.br
SUMMARY:IMERSÃO EM ORTODONTIA | PECLAB
DESCRIPTION:IMERSÃO\nImersão ministrado pelo Dr. Daniel Figueiredo e Dr. Túlio Andrade. \nContato: 31 9 9386 9544
URL:https://pecantigo.com.br/agenda/imersao-em-ortodontia-peclab/
LOCATION:Belo Horizonte – MG
CATEGORIES:Minas Gerais
END:VEVENT
BEGIN:VEVENT
DTSTART;VALUE=DATE:20190905
DTEND;VALUE=DATE:20190907
DTSTAMP:20260423T132348
CREATED:20190806T185428Z
LAST-MODIFIED:20190806T185428Z
UID:6364-1567641600-1567814399@pecantigo.com.br
SUMMARY:CURSO DE ANCORAGEM ESQUELÉTICA | PECLAB
DESCRIPTION:ANCORAGEM\nNome: Curso de Ancoragem Esquelética ministrado pelo professor Dr. Paulo Stopa.\n\nContato: 16 3620 5635
URL:https://pecantigo.com.br/agenda/curso-de-ancoragem-esqueletica-peclab/
LOCATION:Ortogotardo (Ribeirão Preto – SP)
CATEGORIES:São Paulo
END:VEVENT
BEGIN:VEVENT
DTSTART;TZID=America/Sao_Paulo:20190903T080000
DTEND;TZID=America/Sao_Paulo:20190904T170000
DTSTAMP:20260423T132348
CREATED:20190805T154501Z
LAST-MODIFIED:20190805T154501Z
UID:6316-1567497600-1567616400@pecantigo.com.br
SUMMARY:CAPACITAÇÃO EM MINI-IMPLANTES E MARPE | PECLAB
DESCRIPTION:CAPACITAÇÃO\nCapacitação em Mini-Implantes e MARPE ministrado pelo Dr. Bolivar Pimenta Jr. \nContrato: 69 9 8130 0101
URL:https://pecantigo.com.br/agenda/capacitacao-em-mini-implantes-e-marpe-peclab-bolivar-pimenta/
LOCATION:UNICEM  Ji Paraná – RO
CATEGORIES:Rondônia
END:VEVENT
BEGIN:VEVENT
DTSTART;VALUE=DATE:20190830
DTEND;VALUE=DATE:20190901
DTSTAMP:20260423T132348
CREATED:20190709T201033Z
LAST-MODIFIED:20190709T201033Z
UID:6139-1567123200-1567295999@pecantigo.com.br
SUMMARY:ESPECIALIZAÇÃO EM ORTODONTIA | PECLAB
DESCRIPTION:ESPECIALIZAÇÃO\nEspecialização em Ortodontia ministrado pelo Dr. Alexandre Magno dos Santos. \nContato: 31 3458 1097
URL:https://pecantigo.com.br/agenda/especializacao-ortodontia-alexandre-magno-uberlandia-mg/
LOCATION:Uberlândia – MG
CATEGORIES:Minas Gerais
END:VEVENT
BEGIN:VEVENT
DTSTART;VALUE=DATE:20190827
DTEND;VALUE=DATE:20190829
DTSTAMP:20260423T132348
CREATED:20190709T200756Z
LAST-MODIFIED:20190709T200756Z
UID:6136-1566864000-1567036799@pecantigo.com.br
SUMMARY:ESPECIALIZAÇÃO EM ORTODONTIA | PECLAB
DESCRIPTION:ESPECIALIZAÇÃO\nEspecialização em Ortodontia ministrado pelo Dr. Henrique Hiroto Naoe. \nContato: 18 3582 3954
URL:https://pecantigo.com.br/agenda/especializacao-ortodontia-henrique-naoe-instituto-alexandre-ponte/
LOCATION:Instituto Alexandre Ponte  Parapuã – SP
CATEGORIES:São Paulo
END:VEVENT
BEGIN:VEVENT
DTSTART;TZID=America/Sao_Paulo:20190826T080000
DTEND;TZID=America/Sao_Paulo:20190826T170000
DTSTAMP:20260423T132348
CREATED:20190826T182007Z
LAST-MODIFIED:20190826T182133Z
UID:6490-1566806400-1566838800@pecantigo.com.br
SUMMARY:ANCORAGEM ESQUELÉTICA COM PARAFUSO EXTRA-ALVEOLAR | PECLAB
DESCRIPTION:ANCORAGEM\nAncoragem Esquelética com Parafuso Extra-Alveolar  ministrado pelo professor Dr. Horácio Pompei Filho. \nInstituição: MED MUR – Centro de Especialidades Medicas e Odontológicas. \nE-mail: hpompeifilho@hotmail.com \nContato: 32 9 9198 6861 \nData: 20 a 21.09.2019
URL:https://pecantigo.com.br/agenda/ancoragem-esqueletica-com-parafuso-extra-alveolar-peclab/
LOCATION:MED MUR – Centro de Especialidades Médicas e Odontológicas
CATEGORIES:Minas Gerais
END:VEVENT
BEGIN:VEVENT
DTSTART;VALUE=DATE:20190826
DTEND;VALUE=DATE:20190828
DTSTAMP:20260423T132348
CREATED:20190805T153547Z
LAST-MODIFIED:20190805T153547Z
UID:6313-1566777600-1566950399@pecantigo.com.br
SUMMARY:IMERSÃO EM MINI-IMPLANTES EXTRA-ALVEOLARES E TÉCNICA MARPE | PECLAB
DESCRIPTION:IMERSÃO\nImersão em Mini Implantes Extra-Alveolares e Técnica MARPE ministrado pelo Dr. José de Castro Álvares. \nContato: 43 3329 1434
URL:https://pecantigo.com.br/agenda/imersao-em-mini-implantes-extra-alveolares-e-tecnica-marpe-jose-castro/
LOCATION:GODOS  Londrina – PR
CATEGORIES:Paraná
END:VEVENT
BEGIN:VEVENT
DTSTART;VALUE=DATE:20190826
DTEND;VALUE=DATE:20190827
DTSTAMP:20260423T132348
CREATED:20190709T200509Z
LAST-MODIFIED:20190709T200509Z
UID:6133-1566777600-1566863999@pecantigo.com.br
SUMMARY:ESPECIALIZAÇÃO EM ORTODONTIA | PECLAB
DESCRIPTION:ESPECIALIZAÇÃO\nEspecialização em Ortodontia ministrado pelo Dr. Alexandre Magno dos Santos. \nContato: 31 3458 1097
URL:https://pecantigo.com.br/agenda/especializacao-ortodontia-alexandre-magno-bauru/
LOCATION:Bauru – SP
CATEGORIES:São Paulo
END:VEVENT
BEGIN:VEVENT
DTSTART;VALUE=DATE:20190823
DTEND;VALUE=DATE:20190825
DTSTAMP:20260423T132348
CREATED:20190812T184943Z
LAST-MODIFIED:20190812T185115Z
UID:6412-1566518400-1566691199@pecantigo.com.br
SUMMARY:13º ENCONTRO INTERNACIONAL DE ORTODONTIA | PECLAB
DESCRIPTION:
URL:https://pecantigo.com.br/agenda/13o-encontro-internacional-de-ortodontia-peclab/
CATEGORIES:São Paulo
ATTACH;FMTTYPE=image/jpeg:https://pecantigo.com.br/wp-content/uploads/2019/08/Evento-Bauru-23-e-24.08.2019.jpeg
END:VEVENT
BEGIN:VEVENT
DTSTART;VALUE=DATE:20190822
DTEND;VALUE=DATE:20190825
DTSTAMP:20260423T132348
CREATED:20190529T172021Z
LAST-MODIFIED:20190529T172021Z
UID:5844-1566432000-1566691199@pecantigo.com.br
SUMMARY:CURSO DE IMERSÃO EM ANCORAGEM ORTODÔNTICA CORTICAL | PECLAB
DESCRIPTION:CURSO\nCURSO DE IMERSÃO EM ANCORAGEM ORTODÔNTICA CORTICAL ministrado pelos professores Dr. José Alexandre Kozel e Dr. Paulo Cesar da Silva.
URL:https://pecantigo.com.br/agenda/curso-imersao-ancoragem-ortodontica-cortical-ortogeo/
ATTACH;FMTTYPE=image/jpeg:https://pecantigo.com.br/wp-content/uploads/2019/05/Curso-22-a-24.08.2019.jpeg
END:VEVENT
BEGIN:VEVENT
DTSTART;VALUE=DATE:20190820
DTEND;VALUE=DATE:20190822
DTSTAMP:20260423T132348
CREATED:20190805T145745Z
LAST-MODIFIED:20190805T145826Z
UID:6309-1566259200-1566431999@pecantigo.com.br
SUMMARY:ESPECIALIZAÇÃO EM ORTODONTIA | PECLAB
DESCRIPTION:ESPECIALIZAÇÃO\nEspecialização em Ortodontia ministrado pelo  Dr. Tiago Augusto Mueller. \nContato: 51 3902 4041
URL:https://pecantigo.com.br/agenda/especializacao-em-ortodontia-peclab-tiago-mueller/
LOCATION:Odontopós  Porto Alegre – RS
CATEGORIES:Rio Grande do Sul
END:VEVENT
BEGIN:VEVENT
DTSTART;VALUE=DATE:20190819
DTEND;VALUE=DATE:20190821
DTSTAMP:20260423T132348
CREATED:20190805T144227Z
LAST-MODIFIED:20190805T210017Z
UID:6305-1566172800-1566345599@pecantigo.com.br
SUMMARY:IMERSÃO EM MARPE E EXTRA-ALVEOLARES | PECLAB
DESCRIPTION:IMERSÃO\nImersão em MARPE e EXTRA-ALVEOLARE ministrado pelos professores Dr. Cristiano Peres e Dr. Marcelo Keiji Suzuki.
URL:https://pecantigo.com.br/agenda/imersao-em-marpe-e-extra-alveolares-peclab-cristianoperes-marcelosuzuki/
LOCATION:Uniavan São Paulo – SP
CATEGORIES:São Paulo
END:VEVENT
BEGIN:VEVENT
DTSTART;VALUE=DATE:20190819
DTEND;VALUE=DATE:20190821
DTSTAMP:20260423T132348
CREATED:20190709T200157Z
LAST-MODIFIED:20190709T200157Z
UID:6130-1566172800-1566345599@pecantigo.com.br
SUMMARY:IMERSÃO EM MINI-IMPLANTES | PECLAB
DESCRIPTION:IMERSÃO\nImersão em Mini-Implantes ministrado pelos professores  Dr. Fernando Pugliese e Dra. Thalita Galassi. \nContato: 11 3884 3113\n11 9 9308 7909
URL:https://pecantigo.com.br/agenda/imersao-mini-implantes-fernando-plugiese-e-thalita-galassi-2/
LOCATION:SPO São Paulo – SP
CATEGORIES:São Paulo
END:VEVENT
BEGIN:VEVENT
DTSTART;VALUE=DATE:20190816
DTEND;VALUE=DATE:20190818
DTSTAMP:20260423T132348
CREATED:20190709T195843Z
LAST-MODIFIED:20190709T195843Z
UID:6127-1565913600-1566086399@pecantigo.com.br
SUMMARY:ANCORAGEM ESQUELÉTICA COM MINI-IMPLANTES | PECLAB
DESCRIPTION:ANCORAGEM\n”Ancoragem Esquelética com Mini-Implantes: o que há de mais moderno?”  ministrado pelo Dr. Marcellus Guimarães. \nContato: \n27 3093 3722\n27 9 9619 2396
URL:https://pecantigo.com.br/agenda/acoragem-esqueletica-mini-implantes-marcellus-guimaraes/
LOCATION:Instituto Essence Odontologia Vila Velha – ES
CATEGORIES:Espírito Santo
END:VEVENT
END:VCALENDAR