BEGIN:VCALENDAR
VERSION:2.0
PRODID:-//Peclab - ECPv6.15.11//NONSGML v1.0//EN
CALSCALE:GREGORIAN
METHOD:PUBLISH
X-ORIGINAL-URL:https://pecantigo.com.br
X-WR-CALDESC:Eventos para Peclab
REFRESH-INTERVAL;VALUE=DURATION:PT1H
X-Robots-Tag:noindex
X-PUBLISHED-TTL:PT1H
BEGIN:VTIMEZONE
TZID:America/Sao_Paulo
BEGIN:STANDARD
TZOFFSETFROM:-0200
TZOFFSETTO:-0300
TZNAME:-03
DTSTART:20180218T020000
END:STANDARD
BEGIN:DAYLIGHT
TZOFFSETFROM:-0300
TZOFFSETTO:-0200
TZNAME:-02
DTSTART:20181104T030000
END:DAYLIGHT
BEGIN:STANDARD
TZOFFSETFROM:-0200
TZOFFSETTO:-0300
TZNAME:-03
DTSTART:20190217T020000
END:STANDARD
END:VTIMEZONE
BEGIN:VEVENT
DTSTART;VALUE=DATE:20190808
DTEND;VALUE=DATE:20190811
DTSTAMP:20260423T201541
CREATED:20190529T172343Z
LAST-MODIFIED:20190529T172847Z
UID:5846-1565222400-1565481599@pecantigo.com.br
SUMMARY:CURSO DE IMERSÃO EM MINI-IMPLANTES E MARPE | PECLAB
DESCRIPTION:IMERSÃO\nImersão em Mini Implantes e MARPE ministrado pelo professor Dr. Daniel Figueiredo e Dr. Túlio Andrade.
URL:https://pecantigo.com.br/agenda/curso-de-imersao-em-mini-implantes-e-marpe-2-peclab/
CATEGORIES:Rio de Janeiro
ATTACH;FMTTYPE=image/jpeg:https://pecantigo.com.br/wp-content/uploads/2019/05/Curso-Dr.-Tulio-Andrde-e-Dr.-Daniel-Figueiredo-08-a-10.08.2019.jpeg
END:VEVENT
BEGIN:VEVENT
DTSTART;VALUE=DATE:20190806
DTEND;VALUE=DATE:20190808
DTSTAMP:20260423T201541
CREATED:20190603T134316Z
LAST-MODIFIED:20190605T183328Z
UID:5864-1565049600-1565222399@pecantigo.com.br
SUMMARY:CURSO IMERSÃO EM MINI-IMPLANTES ORTODÔNTICOS | PECLAB
DESCRIPTION:CURSO\nCURSO IMERSÃO EM MINI-IMPLANTES ORTODÔNTICOS ministrado pelo professor Dr. Daniel Figueiredo. \n  \n 
URL:https://pecantigo.com.br/agenda/curso-imersao-mini-implantes-ortodonticos-daniel-figueiredo-detalhes-odonto/
LOCATION:DETALHES ODONTOLOGIA ESTÉTICA
CATEGORIES:Minas Gerais
ATTACH;FMTTYPE=image/png:https://pecantigo.com.br/wp-content/uploads/2019/06/ARTE-CURSO-DR.-DANIEL-FIGUEIREDOf.png
END:VEVENT
BEGIN:VEVENT
DTSTART;VALUE=DATE:20190803
DTEND;VALUE=DATE:20190804
DTSTAMP:20260423T201541
CREATED:20190719T202020Z
LAST-MODIFIED:20190719T202020Z
UID:6205-1564790400-1564876799@pecantigo.com.br
SUMMARY:QUANDO A ORTODONTIA E A ANCORAGEM ESQUELÉTICA INTERAGEM | PECLAB
DESCRIPTION:ORTODONTIA\nQuando a Ortodontia e a Ancoragem Esquelética interagem ministrado pelo professor Dr. Gurgel. \nContato: 79 9 9901 0123
URL:https://pecantigo.com.br/agenda/quando-ortodontia-e-ancoragem-esqueletica-interagem-peclab/
LOCATION:Aquarios Praia Hotel  Aracaju – SE
CATEGORIES:Sergipe
END:VEVENT
BEGIN:VEVENT
DTSTART;VALUE=DATE:20190801
DTEND;VALUE=DATE:20190803
DTSTAMP:20260423T201541
CREATED:20190719T201615Z
LAST-MODIFIED:20190719T201615Z
UID:6198-1564617600-1564790399@pecantigo.com.br
SUMMARY:CURSO DE ANCORAGEM ESQUELÉTICA | PECLAB
DESCRIPTION:ANCORAGEM\nAncoragem Esquelética ministrado pelo professor Dr. Paulo Stopa. \nContato: 16 3620 5635
URL:https://pecantigo.com.br/agenda/curso-de-ancoragem-esqueletica-paulo-stopa-peclab/
LOCATION:Ortogotardo  Ribeirão Preto – SP
CATEGORIES:São Paulo
END:VEVENT
BEGIN:VEVENT
DTSTART;VALUE=DATE:20190726
DTEND;VALUE=DATE:20190728
DTSTAMP:20260423T201541
CREATED:20190606T183543Z
LAST-MODIFIED:20190606T183543Z
UID:5936-1564099200-1564271999@pecantigo.com.br
SUMMARY:CURSO DE MARPE E EXTRA-ALVEOLARES | PECLAB
DESCRIPTION:MARPE\nMARPE e EA ministrado pelo professorDr. Alexandre Magno dos Santos. \nContato: 31 3458 1097
URL:https://pecantigo.com.br/agenda/marpe-extra-alveolares-alexandre-magno-parana/
LOCATION:Ponta Grossa
CATEGORIES:Paraná
END:VEVENT
BEGIN:VEVENT
DTSTART;VALUE=DATE:20190725
DTEND;VALUE=DATE:20190726
DTSTAMP:20260423T201541
CREATED:20190718T185455Z
LAST-MODIFIED:20190718T185455Z
UID:6195-1564012800-1564099199@pecantigo.com.br
SUMMARY:ESPECIALIZAÇÃO EM ORTODONTIA | PECLAB
DESCRIPTION:ESPECIALIZAÇÃO\nEspecialização em Ortodontia ministrado pelo Dr. Bruno Furbino Penna. \nContato: \n31 3824 5072\n31 9 8941 6942
URL:https://pecantigo.com.br/agenda/especializacao-ortodontia-bruno-furbino-funorte-ipatinga-mg/
LOCATION:FUNORTE  Ipatinga – MG
CATEGORIES:Minas Gerais
END:VEVENT
BEGIN:VEVENT
DTSTART;VALUE=DATE:20190724
DTEND;VALUE=DATE:20190725
DTSTAMP:20260423T201541
CREATED:20190718T185207Z
LAST-MODIFIED:20190718T185207Z
UID:6192-1563926400-1564012799@pecantigo.com.br
SUMMARY:ESPECIALIZAÇÃO EM ORTODONTIA | PECLAB
DESCRIPTION:ESPECIALIZAÇÃO\nEspecialização em Ortodontia ministrado pelo Dr. Paulo Cezar de Oliveira . \nContato: 31 3236 8125
URL:https://pecantigo.com.br/agenda/especializacao-ortodontia-paulo-oliveira-funorte-mg/
LOCATION:FUNORTE  Belo Horizonte – MG
CATEGORIES:Minas Gerais
END:VEVENT
BEGIN:VEVENT
DTSTART;VALUE=DATE:20190721
DTEND;VALUE=DATE:20190722
DTSTAMP:20260423T201541
CREATED:20190718T184937Z
LAST-MODIFIED:20190718T184937Z
UID:6189-1563667200-1563753599@pecantigo.com.br
SUMMARY:IMERSÃO EM MARPE EXPANSÃO MAXILAR EM ADULTOS SEM CIRURGIA | PECLAB
DESCRIPTION:IMERSÃO\nCurso de Imersão em MARPE – Expansão Maxilar em adultos sem cirurgia – ministrado pelo professor Dr. Marcelo Trévia. \nContato: 85 3311 6666
URL:https://pecantigo.com.br/agenda/imersao-marpe-expansao-maxilar-adulto-sem-cirurgia/
LOCATION:ABO – CE/ Fortaleza – CE
CATEGORIES:Ceará
END:VEVENT
BEGIN:VEVENT
DTSTART;VALUE=DATE:20190720
DTEND;VALUE=DATE:20190721
DTSTAMP:20260423T201541
CREATED:20190606T183252Z
LAST-MODIFIED:20190606T183252Z
UID:5932-1563580800-1563667199@pecantigo.com.br
SUMMARY:CURSO DE MINI-IMPLANTES INTERRADICULARES E EXTRA-ALVEOLARES | PECLAB
DESCRIPTION:MINI-IMPLANTES\nMini-Implantes Interradiculares e Extra-Alveolares ministrado pelo Dr. Lúcio Henrique E. Gurgel. \n 
URL:https://pecantigo.com.br/agenda/mini-implantes-interradiculares-extra-alveolares-lucio-maia-sergipe/
LOCATION:Maia Centro de Estudos 
CATEGORIES:Sergipe
ATTACH;FMTTYPE=image/jpeg:https://pecantigo.com.br/wp-content/uploads/2019/06/Curso-Dr.-Lúcio-Maia-20.07.2019.jpeg
END:VEVENT
BEGIN:VEVENT
DTSTART;VALUE=DATE:20190719
DTEND;VALUE=DATE:20190721
DTSTAMP:20260423T201541
CREATED:20190618T144622Z
LAST-MODIFIED:20190618T144622Z
UID:5998-1563494400-1563667199@pecantigo.com.br
SUMMARY:CURSO DE MINI-IMPLANTES: PLANEJAMENTO 3D E INSTALAÇÃO| PECLAB
DESCRIPTION:3D\nMini Implantes – Planejamento 3D e Instalação ministrado pelo professor Dr. Sérgio Cury. \nContato: 21 9 7208 5454 \n 
URL:https://pecantigo.com.br/agenda/mini-implantes-planejamento-3d-instalacao/
LOCATION:Consultório Boutique/Rio de Janeiro – RJ 
CATEGORIES:Rio de Janeiro
END:VEVENT
BEGIN:VEVENT
DTSTART;VALUE=DATE:20190719
DTEND;VALUE=DATE:20190720
DTSTAMP:20260423T201541
CREATED:20190606T182515Z
LAST-MODIFIED:20190606T182515Z
UID:5925-1563494400-1563580799@pecantigo.com.br
SUMMARY:ESPECIALIZAÇÃO EM ORTODONTIA | PECLAB
DESCRIPTION:ESPECIALIZAÇÃO\nEspecialização em Ortodontia ministrado pelo professor Dr. Hideo Suzuki. \nContato: \n11 2463 3199\n11 2463 3171
URL:https://pecantigo.com.br/agenda/especializacao-ortodontia-hideo-suzuki-sp/
LOCATION:Escola ADOCI  Guarulhos – SP
CATEGORIES:São Paulo
END:VEVENT
BEGIN:VEVENT
DTSTART;VALUE=DATE:20190717
DTEND;VALUE=DATE:20190720
DTSTAMP:20260423T201541
CREATED:20190702T181004Z
LAST-MODIFIED:20190702T181004Z
UID:6071-1563321600-1563580799@pecantigo.com.br
SUMMARY:BIOMECÂNICA MODERNA NO SISTEMA AUTOLIGÁVEL | PECLAB
DESCRIPTION:AUTOLIGÁVEL\nBiomecânica Moderna No Sistema Autoligável Com Ênfase Em Mini-Implantes Extra-Alveolares ministrado pela professora  Dra. Sarah da Costa Matos Miquelão. \nContato: 14 9 9661 0578
URL:https://pecantigo.com.br/agenda/biomecanica-moderna-sistema-autoligavel-mini-implantes-ea/
LOCATION:FACOP Piratininga – SP
CATEGORIES:São Paulo
END:VEVENT
BEGIN:VEVENT
DTSTART;VALUE=DATE:20190717
DTEND;VALUE=DATE:20190719
DTSTAMP:20260423T201541
CREATED:20190702T180717Z
LAST-MODIFIED:20190702T180717Z
UID:6068-1563321600-1563494399@pecantigo.com.br
SUMMARY:ESPECIALIZAÇÃO EM ORTODONTIA | PECLAB
DESCRIPTION:ESPECIALIZAÇÃO\nEspecialização em Ortodontia ministrado pelo professor Dr. Alexandre Magno dos Santos. \nData: 17 e 18/07 \nContato: 38 3218 7575
URL:https://pecantigo.com.br/agenda/especializacao-ortodontia-alexandre-magno-imed-mg/
LOCATION:IMED Montes Claros – MG
CATEGORIES:Minas Gerais
END:VEVENT
BEGIN:VEVENT
DTSTART;VALUE=DATE:20190713
DTEND;VALUE=DATE:20190715
DTSTAMP:20260423T201541
CREATED:20190515T142323Z
LAST-MODIFIED:20190515T142351Z
UID:5770-1562976000-1563148799@pecantigo.com.br
SUMMARY:ESPECIALIZAÇÃO EM ORTODONTIA | PECLAB
DESCRIPTION:ESPECIALIZAÇÃO\nEspecialização em Ortodontia ministrado pelos professores Dra. Cibele Braga Oliveira\, Dr. Eduardo Macluf e Dr. Wilson Murata. \nContato: \n83 3246 5500\n83 3246 7118
URL:https://pecantigo.com.br/agenda/especializacao-orto-cibele-braga-eduardo-macluf-wilson-murata-coesp/
LOCATION:Faculdade COESP /João Pessoa – PB
CATEGORIES:Paraíba
END:VEVENT
BEGIN:VEVENT
DTSTART;VALUE=DATE:20190713
DTEND;VALUE=DATE:20190714
DTSTAMP:20260423T201541
CREATED:20190618T140653Z
LAST-MODIFIED:20190618T140653Z
UID:5986-1562976000-1563062399@pecantigo.com.br
SUMMARY:EXPANSÃO RÁPIDA PALATINA ANCORADA EM MINI-IMPLANTES | PECLAB
DESCRIPTION:EXPANSÃO\nCurso de Expansão Rápida Palatina Ancorada em Mini-Implantes ministrado pelos professores Dr. Alexandre Magno e Dr. Luiz F. Eto. \n 
URL:https://pecantigo.com.br/agenda/expansao-rapida-palatina-ancorada-mini-implantes-alexandre-magno-e-luiz-eto/
LOCATION:EXCEO- BH/MG
CATEGORIES:Minas Gerais
ATTACH;FMTTYPE=image/png:https://pecantigo.com.br/wp-content/uploads/2019/06/WhatsApp-Image-2019-06-18-at-09.58.14.LOGOPECLAB.png
END:VEVENT
BEGIN:VEVENT
DTSTART;VALUE=DATE:20190713
DTEND;VALUE=DATE:20190714
DTSTAMP:20260423T201541
CREATED:20190515T141853Z
LAST-MODIFIED:20190515T141853Z
UID:5767-1562976000-1563062399@pecantigo.com.br
SUMMARY:MINI-IMPLANTES EXTRA-ALVEOLARES | PECLAB
DESCRIPTION:MINI-IMPLANTES\nMini-Implantes Extra-Alveolares ministrado pelo professor Dr.  Fernando Manhães. \nContato: 19 3406 7316
URL:https://pecantigo.com.br/agenda/mini-implantes-extra-alveolares-fernando-manhaes-cursos-sp/
LOCATION:Americana – SP
CATEGORIES:São Paulo
END:VEVENT
BEGIN:VEVENT
DTSTART;VALUE=DATE:20190711
DTEND;VALUE=DATE:20190712
DTSTAMP:20260423T201541
CREATED:20190702T180253Z
LAST-MODIFIED:20190702T180253Z
UID:6064-1562803200-1562889599@pecantigo.com.br
SUMMARY:ESPECIALIZAÇÃO EM ORTODONTIA | PECLAB
DESCRIPTION:ESPECIALIZAÇÃO\nEspecialização em Ortodontia ministrado pelo professor Dr. Bruno Furbino Penna. \nData: 11/07 \nContato: 38 2101 9292
URL:https://pecantigo.com.br/agenda/especializacao-ortodontia-bruno-furbino-funorte-mg/
LOCATION:FUNORTE/ Montes Claros – MG 
CATEGORIES:Minas Gerais
END:VEVENT
BEGIN:VEVENT
DTSTART;VALUE=DATE:20190711
DTEND;VALUE=DATE:20190714
DTSTAMP:20260423T201541
CREATED:20190515T141212Z
LAST-MODIFIED:20190515T141212Z
UID:5763-1562803200-1563062399@pecantigo.com.br
SUMMARY:IMERSÃO EM MINI-IMPLANTES E MARPE | PECLAB
DESCRIPTION:IMERSÃO\nImersão em Mini Implantes e MARPE ministrado pelo professor Dr. Daniel Figueiredo e Dr. Túlio Andrade. \nContato: 31 9 9386 9544
URL:https://pecantigo.com.br/agenda/imersao-mini-implantes-marpe-daniel-figueiredo-tulio-andrade/
LOCATION:Orthodontic World/ Rio de Janeiro – RJ
CATEGORIES:Rio de Janeiro
ATTACH;FMTTYPE=image/jpeg:https://pecantigo.com.br/wp-content/uploads/2019/05/Curso-Dr.-Tulio-Andrde-e-Dr.-Daniel-Figueiredo11-a-13.07.2019.jpeg
END:VEVENT
BEGIN:VEVENT
DTSTART;VALUE=DATE:20190711
DTEND;VALUE=DATE:20190714
DTSTAMP:20260423T201541
CREATED:20190515T140636Z
LAST-MODIFIED:20190515T140636Z
UID:5760-1562803200-1563062399@pecantigo.com.br
SUMMARY:CURSO AVANÇADO EM MARPE  | PECLAB
DESCRIPTION:AVANÇADO\nAvançado MARPE ministrado pelo professor Dr. Caio Valle. \nContato: \n14 3234 1919\n14 9 9654 4386
URL:https://pecantigo.com.br/agenda/curso-avancado-em-marpe-caio-valle-ieo-bauru/
LOCATION:IEO/Bauru – SP 
CATEGORIES:São Paulo
END:VEVENT
BEGIN:VEVENT
DTSTART;VALUE=DATE:20190710
DTEND;VALUE=DATE:20190713
DTSTAMP:20260423T201541
CREATED:20190606T182840Z
LAST-MODIFIED:20190606T182840Z
UID:5929-1562716800-1562975999@pecantigo.com.br
SUMMARY:HANDS ON MINI-IMPLANTES E MARPE | PECLAB
DESCRIPTION:HANDS ON\nHands on Mini Implantes Interradicular\, Extrarradicular e MARPE ministrado pela professora  Dra. Cristiane Lucas de Farias Luz. \nData: 10 a 12/07 \nContato: \n21 2264 0268\n21 2567 5718
URL:https://pecantigo.com.br/agenda/hands-on-mini-implantes-e-marpe-cristiane-luz-prevodonto/
LOCATION:PrevOdonto Rio de Janeiro – RJ
CATEGORIES:Rio de Janeiro
END:VEVENT
BEGIN:VEVENT
DTSTART;VALUE=DATE:20190705
DTEND;VALUE=DATE:20190707
DTSTAMP:20260423T201541
CREATED:20190606T182125Z
LAST-MODIFIED:20190606T182125Z
UID:5922-1562284800-1562457599@pecantigo.com.br
SUMMARY:CURSO DE MARPE E EXTRA-ALVEOLARES | PECLAB
DESCRIPTION:MARPE\nMARPE e EA  ministrado pelo professsor  Dr. Alexandre Magno dos Santos. \nData: 05 e 06/07 \nContato: 31 3458 1097
URL:https://pecantigo.com.br/agenda/curso-marpe-extra-alveolares-alexandre-magno-cuiaba/
LOCATION:Cuiabá – MT
CATEGORIES:Mato Grosso
END:VEVENT
BEGIN:VEVENT
DTSTART;VALUE=DATE:20190704
DTEND;VALUE=DATE:20190708
DTSTAMP:20260423T201541
CREATED:20190524T153808Z
LAST-MODIFIED:20190524T153808Z
UID:5821-1562198400-1562543999@pecantigo.com.br
SUMMARY:TREINAMENTO DE TÉCNICAS CIRÚRGICAS ODONTOLÓGICAS | PECLAB
DESCRIPTION:TREINAMENTO DE TÉCNICAS CIRÚRGICAS ODONTOLÓGICAS \nVem aí! Não perca!
URL:https://pecantigo.com.br/agenda/treinamento-tecnicas-cirurgicas-odontologicasicb-ufmg-julho/
LOCATION:ICB – UFMG
CATEGORIES:Minas Gerais
ATTACH;FMTTYPE=image/jpeg:https://pecantigo.com.br/wp-content/uploads/2019/05/IMG_20190524_122736_216.jpg
END:VEVENT
BEGIN:VEVENT
DTSTART;VALUE=DATE:20190629
DTEND;VALUE=DATE:20190630
DTSTAMP:20260423T201541
CREATED:20190430T182032Z
LAST-MODIFIED:20190430T182032Z
UID:5627-1561766400-1561852799@pecantigo.com.br
SUMMARY:CURSO DA TÉCNICA MARPE | PECLAB
DESCRIPTION:MARPE\nCurso de MARPE ministrado pelo Dr.Júlio de Araújo Gurgel. \nContato: \n11 2577 7842\n11 5078 9560\n11 9 8196 3644
URL:https://pecantigo.com.br/agenda/curso-marpe-julio-gurgel/
LOCATION:Instituto Vellini/São Paulo – SP 
CATEGORIES:São Paulo
END:VEVENT
BEGIN:VEVENT
DTSTART;VALUE=DATE:20190628
DTEND;VALUE=DATE:20190630
DTSTAMP:20260423T201541
CREATED:20190219T182630Z
LAST-MODIFIED:20190219T182630Z
UID:5109-1561680000-1561852799@pecantigo.com.br
SUMMARY:CURSO DE IMERSÃO EM MARPE | PECLAB
DESCRIPTION:MARPE\nCurso de Imersão em MARPE ministrado pelo professor  Dr. Túlio Rodrigues de Andrade. \n 
URL:https://pecantigo.com.br/agenda/curso-imersao-marpe-tulio-andrade-pocos-de-caldas-mg/
LOCATION:Poços de Caldas – MG
CATEGORIES:Minas Gerais
END:VEVENT
BEGIN:VEVENT
DTSTART;VALUE=DATE:20190620
DTEND;VALUE=DATE:20190623
DTSTAMP:20260423T201541
CREATED:20190606T181606Z
LAST-MODIFIED:20190606T181606Z
UID:5919-1560988800-1561247999@pecantigo.com.br
SUMMARY:CAPACITAÇÃO EM SISTEMAS AUTOLIGÁVEIS E MINI-PARAFUSOS | PECLAB
DESCRIPTION:AUTOLIGÁVEIS\nCurso de Capacitação em Sistemas Autoligáveis e Mini-Parafusos ministrado pelos professores Dr. Bolivar Pimenta e\nDr. Flávio Henrique Cognetti. \nContato:\n64 9 9247 4546
URL:https://pecantigo.com.br/agenda/cacitacao-sistemas-autoligaveis-mini-parafusos/
LOCATION:Faculdade ICESP Águas Claras – DF
CATEGORIES:Distrito Federal
END:VEVENT
BEGIN:VEVENT
DTSTART;VALUE=DATE:20190620
DTEND;VALUE=DATE:20190621
DTSTAMP:20260423T201541
CREATED:20190606T181233Z
LAST-MODIFIED:20190611T125540Z
UID:5916-1560988800-1561075199@pecantigo.com.br
SUMMARY:ESPECIALIZAÇÃO EM ORTODONTIA | PECLAB
DESCRIPTION:ESPECIALIZAÇÃO\nEspecialização em Ortodontia ministrado pelo professor Dr. Anderson Mamede . \nData: 20/06 \nContato: \n71 9 9395 6854
URL:https://pecantigo.com.br/agenda/especializacao-ortodontia-instituto-lider-ba-mamede/
LOCATION:Instituto Líder  Salvador – BA
CATEGORIES:Bahia
END:VEVENT
BEGIN:VEVENT
DTSTART;VALUE=DATE:20190620
DTEND;VALUE=DATE:20190630
DTSTAMP:20260423T201541
CREATED:20190514T191049Z
LAST-MODIFIED:20190514T191049Z
UID:5754-1560988800-1561852799@pecantigo.com.br
SUMMARY:ESPECIALIZAÇÃO EM ORTODONTIA | PECLAB
DESCRIPTION:ESPECIALIZAÇÃO\nEspecialização em Ortodontia ministrado pelo  Dr. Caio Valle. \nContato: 47 3349 3358
URL:https://pecantigo.com.br/agenda/especializacao-em-ortodontia-peclab/
LOCATION:Bioeduc/Blumenau – SC
CATEGORIES:Santa Catarina
END:VEVENT
BEGIN:VEVENT
DTSTART;VALUE=DATE:20190615
DTEND;VALUE=DATE:20190616
DTSTAMP:20260423T201541
CREATED:20190618T144836Z
LAST-MODIFIED:20190618T144836Z
UID:6001-1560556800-1560643199@pecantigo.com.br
SUMMARY:ABOR/MG | PECLAB
DESCRIPTION:
URL:https://pecantigo.com.br/agenda/abor-mg-peclab/
ATTACH;FMTTYPE=image/jpeg:https://pecantigo.com.br/wp-content/uploads/2019/06/WhatsApp-Image-2019-05-20-at-14.38.25.jpeg
END:VEVENT
BEGIN:VEVENT
DTSTART;VALUE=DATE:20190614
DTEND;VALUE=DATE:20190616
DTSTAMP:20260423T201541
CREATED:20190606T180754Z
LAST-MODIFIED:20190606T180754Z
UID:5913-1560470400-1560643199@pecantigo.com.br
SUMMARY:CURSO MARPE PRIME | PECLAB
DESCRIPTION:PRIME\nMARPE PRIME ministrado pelos professores Dr. Daniel Brunetto e Dr. Licoln Nojima. \nContato: \n21 2522 2613
URL:https://pecantigo.com.br/agenda/marpe-prime-daniel-brunetto-licoln-nojima-sbo-rj/
LOCATION:Sociedade Brasileira de Ortodontia Rio de Janeiro – RJ
CATEGORIES:Rio de Janeiro
END:VEVENT
BEGIN:VEVENT
DTSTART;VALUE=DATE:20190614
DTEND;VALUE=DATE:20190617
DTSTAMP:20260423T201541
CREATED:20190514T190742Z
LAST-MODIFIED:20190514T190742Z
UID:5751-1560470400-1560729599@pecantigo.com.br
SUMMARY:IMERSÃO EM MINI-IMPLANTE EXTRA-ALVEOLAR E INTER RADICULAR| PECLAB
DESCRIPTION:IMERSÃO\nImersão em Mini-Implantes Extra-Alveolar e Inter Radicular ministrado pelo Dr. Jamil Saleh Jr.. \nContato: 82 9 9684 5091
URL:https://pecantigo.com.br/agenda/imersao-mini-implante-extra-alveolar-inter-radicular/
LOCATION:IDENT  Maceió – AL
CATEGORIES:Alagoas
END:VEVENT
END:VCALENDAR