BEGIN:VCALENDAR
VERSION:2.0
PRODID:-//Peclab - ECPv6.15.11//NONSGML v1.0//EN
CALSCALE:GREGORIAN
METHOD:PUBLISH
X-WR-CALNAME:Peclab
X-ORIGINAL-URL:https://pecantigo.com.br
X-WR-CALDESC:Eventos para Peclab
REFRESH-INTERVAL;VALUE=DURATION:PT1H
X-Robots-Tag:noindex
X-PUBLISHED-TTL:PT1H
BEGIN:VTIMEZONE
TZID:America/Sao_Paulo
BEGIN:STANDARD
TZOFFSETFROM:-0200
TZOFFSETTO:-0300
TZNAME:-03
DTSTART:20180218T020000
END:STANDARD
BEGIN:DAYLIGHT
TZOFFSETFROM:-0300
TZOFFSETTO:-0200
TZNAME:-02
DTSTART:20181104T030000
END:DAYLIGHT
BEGIN:STANDARD
TZOFFSETFROM:-0200
TZOFFSETTO:-0300
TZNAME:-03
DTSTART:20190217T020000
END:STANDARD
END:VTIMEZONE
BEGIN:VEVENT
DTSTART;VALUE=DATE:20190520
DTEND;VALUE=DATE:20190526
DTSTAMP:20260424T052944
CREATED:20190510T184711Z
LAST-MODIFIED:20190510T184711Z
UID:5689-1558310400-1558828799@pecantigo.com.br
SUMMARY:MINI RESIDÊNCIA EM ORTODONTIA BIOCRIATIVA | PECLAB
DESCRIPTION:MINI RESIDÊNCIA\nMini Residência em Ortodontia Biocriativa ministrado pelo Dr. Luiz Fernando Eto. \nContato: 31 3248 7230
URL:https://pecantigo.com.br/agenda/mini-residencia-ortodontia-biocriativa-luiz-eto/
LOCATION:Ciências Médicas/Belo Horizonte – MG
CATEGORIES:Minas Gerais
END:VEVENT
BEGIN:VEVENT
DTSTART;VALUE=DATE:20190518
DTEND;VALUE=DATE:20190519
DTSTAMP:20260424T052944
CREATED:20190219T181757Z
LAST-MODIFIED:20190329T174014Z
UID:5105-1558137600-1558223999@pecantigo.com.br
SUMMARY:CURSO DE IMERSÃO EM MARPE | PECLAB
DESCRIPTION:IMERSÃO\nCurso de Imersão em MARPE ministrado pelo professor Dr. Túlio Rodrigues deAndrade. \n 
URL:https://pecantigo.com.br/agenda/curso-imersao-marpe-tulio-andrade-ceara/
CATEGORIES:Ceará
ATTACH;FMTTYPE=image/jpeg:https://pecantigo.com.br/wp-content/uploads/2019/02/Curso-Dr.-Tulio-Andrade-18.05.2019.jpeg
END:VEVENT
BEGIN:VEVENT
DTSTART;VALUE=DATE:20190517
DTEND;VALUE=DATE:20190518
DTSTAMP:20260424T052944
CREATED:20190426T185432Z
LAST-MODIFIED:20190426T185432Z
UID:5562-1558051200-1558137599@pecantigo.com.br
SUMMARY:MINI-IMPLANTES EXTRA-ALVEOLARES | PECLAB
DESCRIPTION:MINI-IMPLANTES\nMini-Implantes Extra-Alveolares ministrado pelo professor Dr. Henrique Damian Rosário. \nContato: 48 3333 7578
URL:https://pecantigo.com.br/agenda/mini-implantes-extra-alveolares-henrique-damian/
LOCATION:Zenith Educação Continuada/Florianópolis – SC
CATEGORIES:Santa Catarina
END:VEVENT
BEGIN:VEVENT
DTSTART;VALUE=DATE:20190510
DTEND;VALUE=DATE:20190512
DTSTAMP:20260424T052944
CREATED:20190422T183030Z
LAST-MODIFIED:20190422T183030Z
UID:5520-1557446400-1557619199@pecantigo.com.br
SUMMARY:CAPACITAÇÃO EM MINI-IMPLANTES | PECLAB
DESCRIPTION:CAPACITAÇÃO\nCapacitação em Mini-Implantes ministrado pelo professor  Dr. Henrique Hiroto Naoe. \nContato: \n61 4141 8132
URL:https://pecantigo.com.br/agenda/capacitacao-mini-implantes-henrique-naoe/
LOCATION:ANEO/Brasília – DF
CATEGORIES:Distrito Federal
END:VEVENT
BEGIN:VEVENT
DTSTART;VALUE=DATE:20190510
DTEND;VALUE=DATE:20190511
DTSTAMP:20260424T052944
CREATED:20190422T181349Z
LAST-MODIFIED:20190422T181349Z
UID:5517-1557446400-1557532799@pecantigo.com.br
SUMMARY:ESPECIALIZAÇÃO EM ORTODONTIA | PECLAB
DESCRIPTION:ESPECIALIZAÇÃO\nEspecialização em Ortodontia ministrado pelo professor Dr. Bruno Leonardo Pereira. \nContato: 31 9 9164 7336
URL:https://pecantigo.com.br/agenda/especializacao-ortodontia-bruno-leonardo-pereira-abo/
LOCATION:ABO/Belo Horizonte – MG
CATEGORIES:Minas Gerais
END:VEVENT
BEGIN:VEVENT
DTSTART;VALUE=DATE:20190509
DTEND;VALUE=DATE:20190510
DTSTAMP:20260424T052944
CREATED:20190510T184222Z
LAST-MODIFIED:20190510T184222Z
UID:5686-1557360000-1557446399@pecantigo.com.br
SUMMARY:ESPECIALIZAÇÃO EM ORTODONTIA | PECLAB
DESCRIPTION:ESPECIALIZAÇÃO\nEspecialização em Ortodontia ministrado pelo professor  Dr. Hideo Suzuki. \nData: 09.05.2019 \nLocal: Imperatriz – MA
URL:https://pecantigo.com.br/agenda/especializacao-ortodontia-hideo-suzuki/
LOCATION:Imperatriz – MA
CATEGORIES:Maranhão
END:VEVENT
BEGIN:VEVENT
DTSTART;VALUE=DATE:20190509
DTEND;VALUE=DATE:20190512
DTSTAMP:20260424T052944
CREATED:20190401T133452Z
LAST-MODIFIED:20190401T133452Z
UID:5387-1557360000-1557619199@pecantigo.com.br
SUMMARY:CURSO DE MARPE E EXTRA-ALVEOLARES | PECLAB
DESCRIPTION:EXTRA-ALVEOLARES\nCURSO DE MARPE e EXTRA-ALVEOLARES ministrado pelo professor Dr. Eduardo Macluf. \nContato: 19 3367 0268
URL:https://pecantigo.com.br/agenda/marpe-extra-alveolares-eduardo-macluf-santa-catarina-2/
CATEGORIES:Santa Catarina
END:VEVENT
BEGIN:VEVENT
DTSTART;VALUE=DATE:20190506
DTEND;VALUE=DATE:20190508
DTSTAMP:20260424T052944
CREATED:20190401T133109Z
LAST-MODIFIED:20190401T133118Z
UID:5384-1557100800-1557273599@pecantigo.com.br
SUMMARY:CURSO DE MARPE E EXTRA-ALVEOLARES | PECLAB
DESCRIPTION:MARPE\nCURSO DE MARPE e EXTRA-ALVEOLARES ministrado pelo professor Dr. Eduardo Macluf . \nContato: 19 3367 0268
URL:https://pecantigo.com.br/agenda/marpe-extra-alveolares-eduardo-macluf-joinville/
LOCATION:Joinville – SC
CATEGORIES:Santa Catarina
END:VEVENT
BEGIN:VEVENT
DTSTART;VALUE=DATE:20190504
DTEND;VALUE=DATE:20190505
DTSTAMP:20260424T052944
CREATED:20190422T183422Z
LAST-MODIFIED:20190422T183422Z
UID:5524-1556928000-1557014399@pecantigo.com.br
SUMMARY:DENTADURA MISTA AO TRATAMENTO EM ADULTOS | PECLAB
DESCRIPTION:TRATAMENTO\nDicas Clínicas e Decisões assertivas para o Ortodontista\, da dentadura mista ao Tratamento em Adultos ministrado pelo professor Dr.  Fernando Manhães \n 
URL:https://pecantigo.com.br/agenda/dentadura-mista-ao-tratamento-adultos-fernando-manhaes/
LOCATION:Americana – SP 
CATEGORIES:São Paulo
END:VEVENT
BEGIN:VEVENT
DTSTART;VALUE=DATE:20190503
DTEND;VALUE=DATE:20190504
DTSTAMP:20260424T052944
CREATED:20190404T164247Z
LAST-MODIFIED:20190404T164247Z
UID:5403-1556841600-1556927999@pecantigo.com.br
SUMMARY:MARPE: CLINICAL SOLUTIONS & DIGITAL WORKFLOW
DESCRIPTION:MARPE\nMARPE: CLINICAL SOLUTIONS & DIGITAL WORKFLOW by Dr. Túlio Andrade\, Dr. Maurício Cardoso\, Dr. Cristiane Barros and  Dr. Cristiana Araújo.
URL:https://pecantigo.com.br/agenda/marpe-clinical-solutions-digital-workflow-los-angeles-may/
LOCATION:LOS ANGELES – CA/EUA
ATTACH;FMTTYPE=image/jpeg:https://pecantigo.com.br/wp-content/uploads/2019/04/imersao-marpe-EUA-cinza-08.jpg
END:VEVENT
BEGIN:VEVENT
DTSTART;TZID=America/Sao_Paulo:20190430T080000
DTEND;TZID=America/Sao_Paulo:20190430T170000
DTSTAMP:20260424T052944
CREATED:20190430T181718Z
LAST-MODIFIED:20190430T181718Z
UID:5624-1556611200-1556643600@pecantigo.com.br
SUMMARY:IMERSÃO EM MARPE | PECLAB
DESCRIPTION:IMERSÃO\nImersão em MARPE ministrado pelo Dr. Túlio Rodrigues de Andrade. \nContato: 31 3077 3165
URL:https://pecantigo.com.br/agenda/imersao-marpe-tulio-andrade-pocos-de-caldas/
LOCATION:Poços de Caldas – MG 
CATEGORIES:Minas Gerais
END:VEVENT
BEGIN:VEVENT
DTSTART;VALUE=DATE:20190430
DTEND;VALUE=DATE:20190502
DTSTAMP:20260424T052944
CREATED:20190422T180456Z
LAST-MODIFIED:20190422T183859Z
UID:5514-1556582400-1556755199@pecantigo.com.br
SUMMARY:CURSO AVANÇADO DE ANCORAGEM ESQUELÉTICA | PECLAB
DESCRIPTION:ANCORAGEM\nCurso Avançado de Ancoragem Esquelética para Ortodontistas ministrado pelo professor Dr. Francisco Ferreira Nogueira. \nContato: \n62 3941 6060\n62 9 7401 8121\n62 9 7400 2296
URL:https://pecantigo.com.br/agenda/curso-avando-ancoragem-esqueletica-ortodontistas-francisco-nogueira/
LOCATION:Instituto Kenedy Ortodontia/Divinópolis – MG 
CATEGORIES:Minas Gerais
ATTACH;FMTTYPE=image/jpeg:https://pecantigo.com.br/wp-content/uploads/2019/04/Curso-Dr.-Francisco-Ferreira-30.04.2019.jpeg
END:VEVENT
BEGIN:VEVENT
DTSTART;VALUE=DATE:20190427
DTEND;VALUE=DATE:20190428
DTSTAMP:20260424T052944
CREATED:20190308T134156Z
LAST-MODIFIED:20190308T134156Z
UID:5228-1556323200-1556409599@pecantigo.com.br
SUMMARY:CURSO DE IMERSÃO ORTO-CIRÚRGICO | PECLAB
DESCRIPTION:IMERSÃO\nImersão Orto-cirúrgico\, conceitos\, tendências e soluções ministrado pelos professores Dr. Luciano Del Santo\, Dr. Mário Cappellette\, Dr. Laurindo Furquim e Dr. Bruno Furquim. \nContato: \n11 9 8376 4455
URL:https://pecantigo.com.br/agenda/imersao-orto-cirurgico-siedi/
LOCATION:SIEDI
ATTACH;FMTTYPE=image/jpeg:https://pecantigo.com.br/wp-content/uploads/2019/03/Curso-Dr.-Luciano-Del-Santo-29.03.2019.jpeg
END:VEVENT
BEGIN:VEVENT
DTSTART;VALUE=DATE:20190426
DTEND;VALUE=DATE:20190427
DTSTAMP:20260424T052944
CREATED:20190308T133814Z
LAST-MODIFIED:20190319T190827Z
UID:5225-1556236800-1556323199@pecantigo.com.br
SUMMARY:I ° ENCONTRO DE ORTODONTIA ABO - PI | PECLAB
DESCRIPTION:ENCONTRO\nI° Encontro de Ortodontia ABO – PI ministrado pelo professor Dr. Francisco Machado da Fonseca Jr. \nContato: 86 3221 9374
URL:https://pecantigo.com.br/agenda/primeiro-encontro-ortodontia-abo-piaui/
LOCATION:ABO – PI/Teresina – PI
CATEGORIES:Piauí
ATTACH;FMTTYPE=image/jpeg:https://pecantigo.com.br/wp-content/uploads/2019/03/IMG-20190318-WA0005.jpg
END:VEVENT
BEGIN:VEVENT
DTSTART;VALUE=DATE:20190426
DTEND;VALUE=DATE:20190428
DTSTAMP:20260424T052944
CREATED:20190219T180442Z
LAST-MODIFIED:20190219T180442Z
UID:5096-1556236800-1556409599@pecantigo.com.br
SUMMARY:CURSO MICRO-PARAFUSOS ORTODÔNTICOS | PECLAB
DESCRIPTION:MICRO PARAFUSOS\nCurso de Micro Parafusos Ortodônticos ministrado pelo professor Dr. Daniel Ferraz Lima. \n 
URL:https://pecantigo.com.br/agenda/curso-micro-parafusos-ortodonticos-daniel-ferraz/
LOCATION: Infinity Ortodontia/Vitória da Conquista – BA 
END:VEVENT
BEGIN:VEVENT
DTSTART;VALUE=DATE:20190425
DTEND;VALUE=DATE:20190427
DTSTAMP:20260424T052944
CREATED:20190401T132607Z
LAST-MODIFIED:20190401T132607Z
UID:5381-1556150400-1556323199@pecantigo.com.br
SUMMARY:ESPECIALIZAÇÃO EM ORTODONTIA | PECLAB
DESCRIPTION:ESPECIALIZAÇÃO\nEspecialização em Ortodontia ministrado pela professor Dra. Felícia Miranda. \n 
URL:https://pecantigo.com.br/agenda/especializacao-ortodontia-felicia-miranda-abo-uberlandia/
LOCATION:ABO/Uberlândia – MG 
CATEGORIES:Minas Gerais
END:VEVENT
BEGIN:VEVENT
DTSTART;VALUE=DATE:20190425
DTEND;VALUE=DATE:20190428
DTSTAMP:20260424T052944
CREATED:20190219T180833Z
LAST-MODIFIED:20190219T180833Z
UID:5099-1556150400-1556409599@pecantigo.com.br
SUMMARY:CURSO DE ORTODONTIA BIOCRIATIVA | PECLAB
DESCRIPTION:BIOCRIATIVA\nOrtodontia Biocriativa ministrado pelo professor Dr. Luiz Fernando Eto. \n 
URL:https://pecantigo.com.br/agenda/curso-ortodontia-biocriativa-luiz-fernando-eto/
LOCATION:Belo Horizonte
CATEGORIES:Minas Gerais
END:VEVENT
BEGIN:VEVENT
DTSTART;VALUE=DATE:20190424
DTEND;VALUE=DATE:20190425
DTSTAMP:20260424T052944
CREATED:20190401T132155Z
LAST-MODIFIED:20190401T132155Z
UID:5378-1556064000-1556150399@pecantigo.com.br
SUMMARY:ESPECIALIZAÇÃO EM ORTODONTIA | PECLAB
DESCRIPTION:ESPECIALIZAÇÃO\nEspecialização em Ortodontia ministrado pelo professor Dr. José Amaro Neto. \n 
URL:https://pecantigo.com.br/agenda/especializacao-ortodontia-jose-amaro-neto-gapo-bh/
LOCATION:GAPO/Belo Horizonte – MG 
CATEGORIES:Minas Gerais
END:VEVENT
BEGIN:VEVENT
DTSTART;VALUE=DATE:20190417
DTEND;VALUE=DATE:20190419
DTSTAMP:20260424T052944
CREATED:20190329T181317Z
LAST-MODIFIED:20190329T181701Z
UID:5368-1555459200-1555631999@pecantigo.com.br
SUMMARY:CURSO DE MINI-IMPLANTES EXTRA-ALVEOLARES | PECLAB
DESCRIPTION:CURSO\nMini-Implantes Extra-Alveolares ministrado pelo professor Dr.  Paulo Roberto P. Câmara. \n 
URL:https://pecantigo.com.br/agenda/mini-implantes-extra-alveolares-cefos-paulo-roberto-camara/
LOCATION:CEFOS/Belo Horizonte – MG
CATEGORIES:Minas Gerais
END:VEVENT
BEGIN:VEVENT
DTSTART;VALUE=DATE:20190417
DTEND;VALUE=DATE:20190419
DTSTAMP:20260424T052944
CREATED:20190308T133304Z
LAST-MODIFIED:20190308T133304Z
UID:5222-1555459200-1555631999@pecantigo.com.br
SUMMARY:CURSO DE ESPECIALIZAÇÃO EM ORTODONTIA | PECLAB
DESCRIPTION:ESPECIALIZAÇÃO\nEspecialização em Ortodontia ministrado pelo professor Dr. Sidnei Valieri. \nContato: \n47 9 9240 9004
URL:https://pecantigo.com.br/agenda/especializacao-ortodontia-sidnei-valieri-ippo/
LOCATION:IPPO/Balneário Camboriú – SC 
END:VEVENT
BEGIN:VEVENT
DTSTART;VALUE=DATE:20190414
DTEND;VALUE=DATE:20190415
DTSTAMP:20260424T052944
CREATED:20190329T180907Z
LAST-MODIFIED:20190329T180907Z
UID:5365-1555200000-1555286399@pecantigo.com.br
SUMMARY:ESPECIALIZAÇÃO EM ORTODONTIA | PECLAB
DESCRIPTION:ESPECIALIZAÇÃO\nEspecialização em Ortodontia ministrada pela professora Dra. Daiana Broll Repeke. \n 
URL:https://pecantigo.com.br/agenda/especializacao-ortodontia-daiana-broll-repeke/
LOCATION:CIA – Centro Integrado de Aperfeiçoamento/ Aracaju – SE 
CATEGORIES:Sergipe
END:VEVENT
BEGIN:VEVENT
DTSTART;VALUE=DATE:20190412
DTEND;VALUE=DATE:20190414
DTSTAMP:20260424T052944
CREATED:20190219T175841Z
LAST-MODIFIED:20190219T175841Z
UID:5093-1555027200-1555199999@pecantigo.com.br
SUMMARY:CURSO DE IMERSÃO EM MARPE | PECLAB
DESCRIPTION:MARPE\nCurso de Imersão em MARPE ministrado pelo professor Dr. Túlio Rodrigues de Andrade. \n 
URL:https://pecantigo.com.br/agenda/curso-imersao-marpe-tulio-andrade-manaus/
LOCATION:Manaus – AM
END:VEVENT
BEGIN:VEVENT
DTSTART;VALUE=DATE:20190412
DTEND;VALUE=DATE:20190414
DTSTAMP:20260424T052944
CREATED:20190118T174630Z
LAST-MODIFIED:20190329T173844Z
UID:4836-1555027200-1555199999@pecantigo.com.br
SUMMARY:MECÂNICAS COM MOLAS PROPULSORAS APOIADAS EM MINI-IMPLANTES EXTRA-ALVEOLARES E INTER-RADICULARES | PECLAB
DESCRIPTION:Mini-Implantes\nMecânicas com molas propulsoras apoiadas em mini implantes extra-alveolares e inter radiculares ministrado pelo professor Dr. Marcos André Alves Da Silva. \n  \n 
URL:https://pecantigo.com.br/agenda/mecanicas-molas-mini-implantes-marcos-andre/
LOCATION:Clínica Especialize/Arapiraca – AL
CATEGORIES:Alagoas
ATTACH;FMTTYPE=image/jpeg:https://pecantigo.com.br/wp-content/uploads/2019/01/Curso-Dr.-Marcos-Andre-12-e-13.04.2019.jpeg
END:VEVENT
BEGIN:VEVENT
DTSTART;VALUE=DATE:20190410
DTEND;VALUE=DATE:20190413
DTSTAMP:20260424T052944
CREATED:20190308T132923Z
LAST-MODIFIED:20190308T132923Z
UID:5219-1554854400-1555113599@pecantigo.com.br
SUMMARY:CURSO AVANÇADO EM ANCORAGEM ESQUELÉTICA | PECLAB
DESCRIPTION:ANCORAGEM\nCurso Avançado em Ancoragem Esquelética ministrado pelos professores  Dr. Sérgio Milton M. O. Penido e Dr. Francisco Ferreira Nogueira. \nContatos: \n37 3221 2592\n37 9 9989 3590 \nABO – Divinópolis
URL:https://pecantigo.com.br/agenda/curso-avancado-ancoragem-esqueletica-espaco-how/
LOCATION:Espaço How Belo Horizonte – MG
CATEGORIES:Minas Gerais
END:VEVENT
BEGIN:VEVENT
DTSTART;VALUE=DATE:20190408
DTEND;VALUE=DATE:20190410
DTSTAMP:20260424T052944
CREATED:20190314T170448Z
LAST-MODIFIED:20190314T170810Z
UID:5259-1554681600-1554854399@pecantigo.com.br
SUMMARY:MINI-IMPLANTES INTER-RADICULARES E EXTRA-ALVEOLARES | PECLAB
DESCRIPTION:MINI-IMPLANTES\nCurso de Mini-Implantes Inter-radiculares e Extra-Alveolares ministrado pelo professor Dr. Lúcio Maia.
URL:https://pecantigo.com.br/agenda/mini-implantes-inter-radiculares-e-extra-alveolares-peclab/
LOCATION:ABO – RN/Natal – RN
CATEGORIES:Rio Grande do Norte
ATTACH;FMTTYPE=image/jpeg:https://pecantigo.com.br/wp-content/uploads/2019/03/WhatsApp-Image-2019-03-14-at-00.35.00.jpeg
END:VEVENT
BEGIN:VEVENT
DTSTART;VALUE=DATE:20190408
DTEND;VALUE=DATE:20190410
DTSTAMP:20260424T052944
CREATED:20190219T175450Z
LAST-MODIFIED:20190219T175450Z
UID:5090-1554681600-1554854399@pecantigo.com.br
SUMMARY:ESPECIALIZAÇÃO EM ORTODONTIA | PECLAB
DESCRIPTION:ORTODONTIA\nEspecialização em Ortodontia ministrado pelos professores Dr. Alexandre Antônio Ribeiro Dr. Sergei Godeiro. \n  \n 
URL:https://pecantigo.com.br/agenda/especializacao-ortodontia-alexandre-ribeiro-sergei-godeiro/
LOCATION:ABO – RN/Natal – RN
CATEGORIES:Rio Grande do Norte
END:VEVENT
BEGIN:VEVENT
DTSTART;TZID=America/Sao_Paulo:20190405T080000
DTEND;TZID=America/Sao_Paulo:20190406T170000
DTSTAMP:20260424T052944
CREATED:20190118T172558Z
LAST-MODIFIED:20190220T190025Z
UID:4833-1554451200-1554570000@pecantigo.com.br
SUMMARY:IMERSÃO EM MINI-IMPLANTES ORTODÔNTICOS | PECLAB
DESCRIPTION:IMERSÃO\nImersão em Mini Implantes Ortodônticos ministrado pelo professor Dr. Daniel Figueiredo. \n  \n 
URL:https://pecantigo.com.br/agenda/imersao-mini-implantes-ortodonticos-daniel-figueiredo-4/
LOCATION:Núcleo Odontológico/Belo Horizonte
CATEGORIES:Minas Gerais
END:VEVENT
BEGIN:VEVENT
DTSTART;VALUE=DATE:20190405
DTEND;VALUE=DATE:20190406
DTSTAMP:20260424T052944
CREATED:20190219T175041Z
LAST-MODIFIED:20190219T175041Z
UID:5087-1554422400-1554508799@pecantigo.com.br
SUMMARY:CURSO DE IMERSÃO EM MARPE | PECLAB
DESCRIPTION:MARPE\nCurso de Imersão em MARPE ministrado pelo professor Dr. Túlio Rodrigues de Andrade. \n 
URL:https://pecantigo.com.br/agenda/curso-imersao-marpe-tulio-andrade-abor-sp/
LOCATION:ABOR- SP
CATEGORIES:São Paulo
END:VEVENT
BEGIN:VEVENT
DTSTART;VALUE=DATE:20190405
DTEND;VALUE=DATE:20190407
DTSTAMP:20260424T052944
CREATED:20190108T161044Z
LAST-MODIFIED:20190108T161044Z
UID:4775-1554422400-1554595199@pecantigo.com.br
SUMMARY:IMERSÃO EM MINI-IMPLANTES ORTODÔNTICOS | PECLAB
DESCRIPTION:IMERSÃO\nImersão em Mini-Implantes Ortodônticos proferido pelo professor Dr. Daniel Figueiredo. \n 
URL:https://pecantigo.com.br/agenda/imersao-mini-implantes-ortodonticos-daniel-figueiredo-3/
LOCATION:Núcleo Odontológico/ Belo Horizonte – MG
CATEGORIES:Minas Gerais
END:VEVENT
BEGIN:VEVENT
DTSTART;VALUE=DATE:20190404
DTEND;VALUE=DATE:20190406
DTSTAMP:20260424T052944
CREATED:20190219T174617Z
LAST-MODIFIED:20190219T174617Z
UID:5084-1554336000-1554508799@pecantigo.com.br
SUMMARY:CURSO TEÓRICO/PRÁTICO DE MINI-IMPLANTES ORTODÔNTICOS | PECLAB
DESCRIPTION:CURSO\nCurso Teórico/Prático de Mini-Implantes Ortodônticos ministrado pelo professor  Dr. Carlo Marassi. \n 
URL:https://pecantigo.com.br/agenda/curso-teorico-pratico-mini-implantes-ortodonticos-carlo-marassi/
LOCATION:Marassi Treinamentos/Rio de Janeiro – RJ 
CATEGORIES:Rio de Janeiro
END:VEVENT
END:VCALENDAR