BEGIN:VCALENDAR
VERSION:2.0
PRODID:-//Peclab - ECPv6.15.11//NONSGML v1.0//EN
CALSCALE:GREGORIAN
METHOD:PUBLISH
X-WR-CALNAME:Peclab
X-ORIGINAL-URL:https://pecantigo.com.br
X-WR-CALDESC:Eventos para Peclab
REFRESH-INTERVAL;VALUE=DURATION:PT1H
X-Robots-Tag:noindex
X-PUBLISHED-TTL:PT1H
BEGIN:VTIMEZONE
TZID:America/Sao_Paulo
BEGIN:STANDARD
TZOFFSETFROM:-0200
TZOFFSETTO:-0300
TZNAME:-03
DTSTART:20180218T020000
END:STANDARD
BEGIN:DAYLIGHT
TZOFFSETFROM:-0300
TZOFFSETTO:-0200
TZNAME:-02
DTSTART:20181104T030000
END:DAYLIGHT
BEGIN:STANDARD
TZOFFSETFROM:-0200
TZOFFSETTO:-0300
TZNAME:-03
DTSTART:20190217T020000
END:STANDARD
END:VTIMEZONE
BEGIN:VEVENT
DTSTART;VALUE=DATE:20190417
DTEND;VALUE=DATE:20190419
DTSTAMP:20260424T085708
CREATED:20190329T181317Z
LAST-MODIFIED:20190329T181701Z
UID:5368-1555459200-1555631999@pecantigo.com.br
SUMMARY:CURSO DE MINI-IMPLANTES EXTRA-ALVEOLARES | PECLAB
DESCRIPTION:CURSO\nMini-Implantes Extra-Alveolares ministrado pelo professor Dr.  Paulo Roberto P. Câmara. \n 
URL:https://pecantigo.com.br/agenda/mini-implantes-extra-alveolares-cefos-paulo-roberto-camara/
LOCATION:CEFOS/Belo Horizonte – MG
CATEGORIES:Minas Gerais
END:VEVENT
BEGIN:VEVENT
DTSTART;VALUE=DATE:20190417
DTEND;VALUE=DATE:20190419
DTSTAMP:20260424T085708
CREATED:20190308T133304Z
LAST-MODIFIED:20190308T133304Z
UID:5222-1555459200-1555631999@pecantigo.com.br
SUMMARY:CURSO DE ESPECIALIZAÇÃO EM ORTODONTIA | PECLAB
DESCRIPTION:ESPECIALIZAÇÃO\nEspecialização em Ortodontia ministrado pelo professor Dr. Sidnei Valieri. \nContato: \n47 9 9240 9004
URL:https://pecantigo.com.br/agenda/especializacao-ortodontia-sidnei-valieri-ippo/
LOCATION:IPPO/Balneário Camboriú – SC 
END:VEVENT
BEGIN:VEVENT
DTSTART;VALUE=DATE:20190414
DTEND;VALUE=DATE:20190415
DTSTAMP:20260424T085708
CREATED:20190329T180907Z
LAST-MODIFIED:20190329T180907Z
UID:5365-1555200000-1555286399@pecantigo.com.br
SUMMARY:ESPECIALIZAÇÃO EM ORTODONTIA | PECLAB
DESCRIPTION:ESPECIALIZAÇÃO\nEspecialização em Ortodontia ministrada pela professora Dra. Daiana Broll Repeke. \n 
URL:https://pecantigo.com.br/agenda/especializacao-ortodontia-daiana-broll-repeke/
LOCATION:CIA – Centro Integrado de Aperfeiçoamento/ Aracaju – SE 
CATEGORIES:Sergipe
END:VEVENT
BEGIN:VEVENT
DTSTART;VALUE=DATE:20190412
DTEND;VALUE=DATE:20190414
DTSTAMP:20260424T085708
CREATED:20190219T175841Z
LAST-MODIFIED:20190219T175841Z
UID:5093-1555027200-1555199999@pecantigo.com.br
SUMMARY:CURSO DE IMERSÃO EM MARPE | PECLAB
DESCRIPTION:MARPE\nCurso de Imersão em MARPE ministrado pelo professor Dr. Túlio Rodrigues de Andrade. \n 
URL:https://pecantigo.com.br/agenda/curso-imersao-marpe-tulio-andrade-manaus/
LOCATION:Manaus – AM
END:VEVENT
BEGIN:VEVENT
DTSTART;VALUE=DATE:20190412
DTEND;VALUE=DATE:20190414
DTSTAMP:20260424T085708
CREATED:20190118T174630Z
LAST-MODIFIED:20190329T173844Z
UID:4836-1555027200-1555199999@pecantigo.com.br
SUMMARY:MECÂNICAS COM MOLAS PROPULSORAS APOIADAS EM MINI-IMPLANTES EXTRA-ALVEOLARES E INTER-RADICULARES | PECLAB
DESCRIPTION:Mini-Implantes\nMecânicas com molas propulsoras apoiadas em mini implantes extra-alveolares e inter radiculares ministrado pelo professor Dr. Marcos André Alves Da Silva. \n  \n 
URL:https://pecantigo.com.br/agenda/mecanicas-molas-mini-implantes-marcos-andre/
LOCATION:Clínica Especialize/Arapiraca – AL
CATEGORIES:Alagoas
ATTACH;FMTTYPE=image/jpeg:https://pecantigo.com.br/wp-content/uploads/2019/01/Curso-Dr.-Marcos-Andre-12-e-13.04.2019.jpeg
END:VEVENT
BEGIN:VEVENT
DTSTART;VALUE=DATE:20190410
DTEND;VALUE=DATE:20190413
DTSTAMP:20260424T085708
CREATED:20190308T132923Z
LAST-MODIFIED:20190308T132923Z
UID:5219-1554854400-1555113599@pecantigo.com.br
SUMMARY:CURSO AVANÇADO EM ANCORAGEM ESQUELÉTICA | PECLAB
DESCRIPTION:ANCORAGEM\nCurso Avançado em Ancoragem Esquelética ministrado pelos professores  Dr. Sérgio Milton M. O. Penido e Dr. Francisco Ferreira Nogueira. \nContatos: \n37 3221 2592\n37 9 9989 3590 \nABO – Divinópolis
URL:https://pecantigo.com.br/agenda/curso-avancado-ancoragem-esqueletica-espaco-how/
LOCATION:Espaço How Belo Horizonte – MG
CATEGORIES:Minas Gerais
END:VEVENT
BEGIN:VEVENT
DTSTART;VALUE=DATE:20190408
DTEND;VALUE=DATE:20190410
DTSTAMP:20260424T085708
CREATED:20190314T170448Z
LAST-MODIFIED:20190314T170810Z
UID:5259-1554681600-1554854399@pecantigo.com.br
SUMMARY:MINI-IMPLANTES INTER-RADICULARES E EXTRA-ALVEOLARES | PECLAB
DESCRIPTION:MINI-IMPLANTES\nCurso de Mini-Implantes Inter-radiculares e Extra-Alveolares ministrado pelo professor Dr. Lúcio Maia.
URL:https://pecantigo.com.br/agenda/mini-implantes-inter-radiculares-e-extra-alveolares-peclab/
LOCATION:ABO – RN/Natal – RN
CATEGORIES:Rio Grande do Norte
ATTACH;FMTTYPE=image/jpeg:https://pecantigo.com.br/wp-content/uploads/2019/03/WhatsApp-Image-2019-03-14-at-00.35.00.jpeg
END:VEVENT
BEGIN:VEVENT
DTSTART;VALUE=DATE:20190408
DTEND;VALUE=DATE:20190410
DTSTAMP:20260424T085708
CREATED:20190219T175450Z
LAST-MODIFIED:20190219T175450Z
UID:5090-1554681600-1554854399@pecantigo.com.br
SUMMARY:ESPECIALIZAÇÃO EM ORTODONTIA | PECLAB
DESCRIPTION:ORTODONTIA\nEspecialização em Ortodontia ministrado pelos professores Dr. Alexandre Antônio Ribeiro Dr. Sergei Godeiro. \n  \n 
URL:https://pecantigo.com.br/agenda/especializacao-ortodontia-alexandre-ribeiro-sergei-godeiro/
LOCATION:ABO – RN/Natal – RN
CATEGORIES:Rio Grande do Norte
END:VEVENT
BEGIN:VEVENT
DTSTART;TZID=America/Sao_Paulo:20190405T080000
DTEND;TZID=America/Sao_Paulo:20190406T170000
DTSTAMP:20260424T085708
CREATED:20190118T172558Z
LAST-MODIFIED:20190220T190025Z
UID:4833-1554451200-1554570000@pecantigo.com.br
SUMMARY:IMERSÃO EM MINI-IMPLANTES ORTODÔNTICOS | PECLAB
DESCRIPTION:IMERSÃO\nImersão em Mini Implantes Ortodônticos ministrado pelo professor Dr. Daniel Figueiredo. \n  \n 
URL:https://pecantigo.com.br/agenda/imersao-mini-implantes-ortodonticos-daniel-figueiredo-4/
LOCATION:Núcleo Odontológico/Belo Horizonte
CATEGORIES:Minas Gerais
END:VEVENT
BEGIN:VEVENT
DTSTART;VALUE=DATE:20190405
DTEND;VALUE=DATE:20190406
DTSTAMP:20260424T085708
CREATED:20190219T175041Z
LAST-MODIFIED:20190219T175041Z
UID:5087-1554422400-1554508799@pecantigo.com.br
SUMMARY:CURSO DE IMERSÃO EM MARPE | PECLAB
DESCRIPTION:MARPE\nCurso de Imersão em MARPE ministrado pelo professor Dr. Túlio Rodrigues de Andrade. \n 
URL:https://pecantigo.com.br/agenda/curso-imersao-marpe-tulio-andrade-abor-sp/
LOCATION:ABOR- SP
CATEGORIES:São Paulo
END:VEVENT
BEGIN:VEVENT
DTSTART;VALUE=DATE:20190405
DTEND;VALUE=DATE:20190407
DTSTAMP:20260424T085708
CREATED:20190108T161044Z
LAST-MODIFIED:20190108T161044Z
UID:4775-1554422400-1554595199@pecantigo.com.br
SUMMARY:IMERSÃO EM MINI-IMPLANTES ORTODÔNTICOS | PECLAB
DESCRIPTION:IMERSÃO\nImersão em Mini-Implantes Ortodônticos proferido pelo professor Dr. Daniel Figueiredo. \n 
URL:https://pecantigo.com.br/agenda/imersao-mini-implantes-ortodonticos-daniel-figueiredo-3/
LOCATION:Núcleo Odontológico/ Belo Horizonte – MG
CATEGORIES:Minas Gerais
END:VEVENT
BEGIN:VEVENT
DTSTART;VALUE=DATE:20190404
DTEND;VALUE=DATE:20190406
DTSTAMP:20260424T085708
CREATED:20190219T174617Z
LAST-MODIFIED:20190219T174617Z
UID:5084-1554336000-1554508799@pecantigo.com.br
SUMMARY:CURSO TEÓRICO/PRÁTICO DE MINI-IMPLANTES ORTODÔNTICOS | PECLAB
DESCRIPTION:CURSO\nCurso Teórico/Prático de Mini-Implantes Ortodônticos ministrado pelo professor  Dr. Carlo Marassi. \n 
URL:https://pecantigo.com.br/agenda/curso-teorico-pratico-mini-implantes-ortodonticos-carlo-marassi/
LOCATION:Marassi Treinamentos/Rio de Janeiro – RJ 
CATEGORIES:Rio de Janeiro
END:VEVENT
BEGIN:VEVENT
DTSTART;VALUE=DATE:20190329
DTEND;VALUE=DATE:20190331
DTSTAMP:20260424T085708
CREATED:20190130T152842Z
LAST-MODIFIED:20190130T153609Z
UID:4951-1553817600-1553990399@pecantigo.com.br
SUMMARY:CURSO DE MICRO-PARAFUSOS ORTODÔNTICOS | PECLAB
DESCRIPTION:MICRO-PARAFUSOS\nCurso de Micro Parafusos Ortodônticos  ministrado pelo professor  Dr. Daniel Ferraz.
URL:https://pecantigo.com.br/agenda/curso-micro-parafusos-ortdonticos-daniel-ferraz-infinity-ortodontia/
CATEGORIES:Bahia
ATTACH;FMTTYPE=image/jpeg:https://pecantigo.com.br/wp-content/uploads/2019/01/WhatsApp-Image-2019-01-29-at-17.26.01.jpeg
END:VEVENT
BEGIN:VEVENT
DTSTART;VALUE=DATE:20190329
DTEND;VALUE=DATE:20190331
DTSTAMP:20260424T085708
CREATED:20190107T132447Z
LAST-MODIFIED:20190220T190231Z
UID:4764-1553817600-1553990399@pecantigo.com.br
SUMMARY:IMERSÃO EM MINI-IMPLANTES ORTODÔNTICOS | PECLAB
DESCRIPTION:IMERSÃO\nImersão em Mini-Implantes Ortodônticos ministrado pelo Dr. Daniel Figueiredo. \n 
URL:https://pecantigo.com.br/agenda/imersao-mini-implantes-ortodonticos-daniel-figueiredo-2-2/
LOCATION:NEOM RB/Rio de Janeiro – RJ
CATEGORIES:Rio de Janeiro
ATTACH;FMTTYPE=image/jpeg:https://pecantigo.com.br/wp-content/uploads/2019/01/Dr.-Daniel-Figueirdo-29-e-30.03.2019.jpeg
END:VEVENT
BEGIN:VEVENT
DTSTART;VALUE=DATE:20190329
DTEND;VALUE=DATE:20190330
DTSTAMP:20260424T085708
CREATED:20181207T192250Z
LAST-MODIFIED:20190122T151911Z
UID:4611-1553817600-1553903999@pecantigo.com.br
SUMMARY:DESMISTIFICANDO A TÉCNICA MARPE- DO DIAGNÓSTICO À INSTALAÇÃO | PECLAB
DESCRIPTION:MARPE\nDesmistificando a Técnica MARPE –do diagnóstico à instalação ministrado pelo professor Dr. Marcelo de Morais Curado. \n  \n 
URL:https://pecantigo.com.br/agenda/desmistificando-marpe-marcelo-curado/
LOCATION:Clínica Radiológica/ Fenelon\, Brasília – DF
CATEGORIES:Brasília
ATTACH;FMTTYPE=image/jpeg:https://pecantigo.com.br/wp-content/uploads/2018/12/WhatsApp-Image-2019-01-22-at-08.37.18.jpeg
END:VEVENT
BEGIN:VEVENT
DTSTART;VALUE=DATE:20190328
DTEND;VALUE=DATE:20190330
DTSTAMP:20260424T085708
CREATED:20190215T185404Z
LAST-MODIFIED:20190215T185404Z
UID:5069-1553731200-1553903999@pecantigo.com.br
SUMMARY:HANDS ON MINI-IMPLANTES INTERRADICULAR\, EXTRARRADICULAR E DISJUNTOR MARPE | PECLAB
DESCRIPTION:HANDS ON\nHands on Mini Implantes Interradicular\, Extrarradicular e Disjuntor MARPE em Ortodontia ministrado pela professora Dra. Cristiane Lucas de Farias Luz. \n 
URL:https://pecantigo.com.br/agenda/hands-on-mini-implantes-disjuntor-marpe/
LOCATION:Empresarial Green Tower
CATEGORIES:Pernambuco
ATTACH;FMTTYPE=application/pdf:https://pecantigo.com.br/wp-content/uploads/2019/02/Curso-Dra.-Cristiane-Lucas-28-e-29.03.2019-1.pdf
END:VEVENT
BEGIN:VEVENT
DTSTART;VALUE=DATE:20190326
DTEND;VALUE=DATE:20190327
DTSTAMP:20260424T085708
CREATED:20190301T172912Z
LAST-MODIFIED:20190301T172912Z
UID:5190-1553558400-1553644799@pecantigo.com.br
SUMMARY:CURSO DE ESPECIALIZAÇÃO EM ORTODONTIA | PECLAB
DESCRIPTION:CURSO\nCurso de Especialização em Ortodontia ministrado pelo professor Dr. Cláudio Renato de Souza Vieira. \nContatos: 31 3241 7436//31 9 7151 7571
URL:https://pecantigo.com.br/agenda/curso-especializacao-ortodontia-claudio-renato-cetro-bh/
LOCATION:CETRO/Belo Horizonte – MG
END:VEVENT
BEGIN:VEVENT
DTSTART;VALUE=DATE:20190322
DTEND;VALUE=DATE:20190324
DTSTAMP:20260424T085708
CREATED:20190129T160700Z
LAST-MODIFIED:20190129T160700Z
UID:4934-1553212800-1553385599@pecantigo.com.br
SUMMARY:HANDS ON MINI-IMPLANTES | PECLAB
DESCRIPTION:HANDS ON\n\nCurso de Hands on Mini-Implantes ministrado pelo professor Dr. Rodrigo Romano.
URL:https://pecantigo.com.br/agenda/hands-on-mini-implantes-rodrigo-romano/
LOCATION:Instituto Rodrigo Romano pós-graduação / Dental Uai
CATEGORIES:Minas Gerais
ATTACH;FMTTYPE=image/jpeg:https://pecantigo.com.br/wp-content/uploads/2019/01/WhatsApp-Image-2019-01-25-at-15.52.48-1.jpeg
END:VEVENT
BEGIN:VEVENT
DTSTART;VALUE=DATE:20190321
DTEND;VALUE=DATE:20190324
DTSTAMP:20260424T085708
CREATED:20190211T175807Z
LAST-MODIFIED:20190212T180312Z
UID:5021-1553126400-1553385599@pecantigo.com.br
SUMMARY:CURSO DE IMERSÃO EM MARPE E EXTRA-ALVEOLARES | PECLAB
DESCRIPTION:MARPE\nMais uma edição do Curso de Imersão em MARPE e Extra-Alveolares ministrado pelos professores Dr. Túlio Andrade e Dr. Márcio Almeida. \n 
URL:https://pecantigo.com.br/agenda/curso-imersao-marpe-extra-alveolares-tulio-andrade-marcio-almeida/
LOCATION:Clínica Slice/Belo Horizonte – MG
ATTACH;FMTTYPE=image/jpeg:https://pecantigo.com.br/wp-content/uploads/2019/02/WhatsApp-Image-2019-02-10-at-22.33.01.jpg
END:VEVENT
BEGIN:VEVENT
DTSTART;VALUE=DATE:20190321
DTEND;VALUE=DATE:20190324
DTSTAMP:20260424T085708
CREATED:20190125T161356Z
LAST-MODIFIED:20190125T161444Z
UID:4908-1553126400-1553385599@pecantigo.com.br
SUMMARY:10° CONGRESSO INTERNACIONAL DE ORTODONTIA | PECLAB
DESCRIPTION:
URL:https://pecantigo.com.br/agenda/10-congresso-internacional-de-ortodontia-peclab/
CATEGORIES:Goiás
ATTACH;FMTTYPE=image/png:https://pecantigo.com.br/wp-content/uploads/2019/01/2019.01.17-POSTS-PARCEIROS-PECLAB-1200x1200-1.png
END:VEVENT
BEGIN:VEVENT
DTSTART;VALUE=DATE:20190320
DTEND;VALUE=DATE:20190324
DTSTAMP:20260424T085708
CREATED:20190215T183035Z
LAST-MODIFIED:20190215T183035Z
UID:5066-1553040000-1553385599@pecantigo.com.br
SUMMARY:BRASIL/ARGENTINA IN OFFICE | PECLAB
DESCRIPTION:IN OFFICE\nBrasil / Argentina In Office ministrado pelo professor Dr. Eduardo Macluf. \n 
URL:https://pecantigo.com.br/agenda/brasil-argentina-in-office-eduardo-macluf/
LOCATION:CEREO/Campinas – SP 
CATEGORIES:São Paulo
END:VEVENT
BEGIN:VEVENT
DTSTART;VALUE=DATE:20190316
DTEND;VALUE=DATE:20190317
DTSTAMP:20260424T085708
CREATED:20190123T120620Z
LAST-MODIFIED:20190123T120620Z
UID:4871-1552694400-1552780799@pecantigo.com.br
SUMMARY:CURSO PROTOCOLO MARPE | PECLAB
DESCRIPTION:PROTOCOLO\nCurso Protocolo MARPE ministrado pelo professor Dr. Túlio Andrade.
URL:https://pecantigo.com.br/agenda/curso-protocolo-marpe-tulio-andrade/
CATEGORIES:Paraná
ATTACH;FMTTYPE=image/jpeg:https://pecantigo.com.br/wp-content/uploads/2019/01/A5_EXAMES_MARP_1.jpg
END:VEVENT
BEGIN:VEVENT
DTSTART;VALUE=DATE:20190315
DTEND;VALUE=DATE:20190317
DTSTAMP:20260424T085708
CREATED:20190211T180507Z
LAST-MODIFIED:20190211T180507Z
UID:5024-1552608000-1552780799@pecantigo.com.br
SUMMARY:CURSO DE MARPE - EXPANDINDO LIMITES | PECLAB
DESCRIPTION:CURSO\nCurso de MARPE ministrado pelos professores Dr. Daniel Brunetto e Dr. Lincoln Nojima. \n 
URL:https://pecantigo.com.br/agenda/marpe-prime-daniel-brunetoo-lincoln-nojima-expandindo-limites/
CATEGORIES:Curitiba
ATTACH;FMTTYPE=image/jpeg:https://pecantigo.com.br/wp-content/uploads/2019/02/instagram.001.jpeg
END:VEVENT
BEGIN:VEVENT
DTSTART;VALUE=DATE:20190315
DTEND;VALUE=DATE:20190317
DTSTAMP:20260424T085708
CREATED:20190107T132055Z
LAST-MODIFIED:20190108T160558Z
UID:4761-1552608000-1552780799@pecantigo.com.br
SUMMARY:IMERSÃO EM MINI-IMPLANTES ORTODÔNTICOS | PECLAB
DESCRIPTION:IMERSÃO\nImersão em Mini-Implantes Ortodônticos proferido pelo professor Dr. Daniel Figueiredo. \n 
URL:https://pecantigo.com.br/agenda/imersao-mini-implantes-ortodonticos-daniel-figueiredo-2/
LOCATION:Grand Mercure/Rio de Janeiro – RJ  
CATEGORIES:Rio de Janeiro
ATTACH;FMTTYPE=image/jpeg:https://pecantigo.com.br/wp-content/uploads/2019/01/Daniel-Figueiredo-15-e-16.03.2019.jpeg
END:VEVENT
BEGIN:VEVENT
DTSTART;VALUE=DATE:20190314
DTEND;VALUE=DATE:20190317
DTSTAMP:20260424T085708
CREATED:20190214T141613Z
LAST-MODIFIED:20190214T141613Z
UID:5053-1552521600-1552780799@pecantigo.com.br
SUMMARY:CURSO DE ORTODONTIA BIOCRIATIVA | PECLAB
DESCRIPTION:CURSO\nOrtodontia Biocriativa ministrado pelo professor Dr.  Luiz Fernando Eto. \n 
URL:https://pecantigo.com.br/agenda/curso-ortodontia-biocriativa-luiz-eto-bh-2/
LOCATION:Belo Horizonte
CATEGORIES:Minas Gerais
END:VEVENT
BEGIN:VEVENT
DTSTART;VALUE=DATE:20190222
DTEND;VALUE=DATE:20190224
DTSTAMP:20260424T085708
CREATED:20190125T160936Z
LAST-MODIFIED:20190125T160936Z
UID:4904-1550793600-1550966399@pecantigo.com.br
SUMMARY:ANCORAGEM ESQUELÉTICA MINI-IMPLANTES EXTRA-ALVEOLARES | PECLAB
DESCRIPTION:Curso de Ancoragem Esquelética com Mini-Implantes Extra-Alveolares ministrado pelo professor Dr. Márcio Almeida. \n 
URL:https://pecantigo.com.br/agenda/ancoragem-esqueletica-extra-alveolares-marcio-almeida/
CATEGORIES:São Paulo
ATTACH;FMTTYPE=image/jpeg:https://pecantigo.com.br/wp-content/uploads/2019/01/IMG-20190123-WA0002.jpg
END:VEVENT
BEGIN:VEVENT
DTSTART;VALUE=DATE:20190221
DTEND;VALUE=DATE:20190223
DTSTAMP:20260424T085708
CREATED:20190214T141050Z
LAST-MODIFIED:20190214T141050Z
UID:5051-1550707200-1550879999@pecantigo.com.br
SUMMARY:CURSO DE ORTODONTIA BIOCRIATIVA | PECLAB
DESCRIPTION:Curso\nOrtodontia Biocriativa ministrado pelo professor Dr. Luiz Fernando Eto. \n 
URL:https://pecantigo.com.br/agenda/ortodontia-biocriativa-luiz-fernando-eto-bh/
LOCATION:CETRO  Belo Horizonte – MG
CATEGORIES:Minas Gerais
END:VEVENT
BEGIN:VEVENT
DTSTART;VALUE=DATE:20190218
DTEND;VALUE=DATE:20190220
DTSTAMP:20260424T085708
CREATED:20190123T171220Z
LAST-MODIFIED:20190204T165320Z
UID:4887-1550448000-1550620799@pecantigo.com.br
SUMMARY:ANCORAGEM ESQUELÉTICA EXTRA-ALVEOLAR | PECLAB
DESCRIPTION:EXTRA-ALVEOLAR\nAncoragem Esquelética Extra-Alveolar ministrado pelo professor Dr. Eduardo Macluf. \n 
URL:https://pecantigo.com.br/agenda/ancoragem-esqueletica-extra-alveolar-eduardo-macluf/
LOCATION:BIONEP/Pato Branco – PR 
CATEGORIES:Paraná
ATTACH;FMTTYPE=image/jpeg:https://pecantigo.com.br/wp-content/uploads/2019/01/Curso-Dr.-Eduardo-Macluf-18-e-19.02.2019.jpeg
END:VEVENT
BEGIN:VEVENT
DTSTART;VALUE=DATE:20190216
DTEND;VALUE=DATE:20190218
DTSTAMP:20260424T085708
CREATED:20190118T171547Z
LAST-MODIFIED:20190118T171547Z
UID:4830-1550275200-1550447999@pecantigo.com.br
SUMMARY:CURSO DE MINI-IMPLANTES EXTRA-ALVEOLARES E MARPE | PECLAB
DESCRIPTION:MARPE\nMini-Implantes Extra Alveolares e MARPE ministrado pelo professor Dr. Sidnei Valieri. \n 
URL:https://pecantigo.com.br/agenda/mini-implantes-extra-alveolares-marpe-sidnei-valieri/
LOCATION:AEPC /Bento Gonçalves – RS 
END:VEVENT
BEGIN:VEVENT
DTSTART;VALUE=DATE:20190214
DTEND;VALUE=DATE:20190217
DTSTAMP:20260424T085708
CREATED:20181219T140700Z
LAST-MODIFIED:20181219T140700Z
UID:4696-1550102400-1550361599@pecantigo.com.br
SUMMARY:ANCORAGEM ESQUELÉTICA EM ORTODONTIA | PECLAB
DESCRIPTION:ANCORAGEM\nAncoragem Esquelética em Ortodontia ministrado pelo professor  Dr. Aubrey Fernando Fabre. \n 
URL:https://pecantigo.com.br/agenda/ancoragem-esqueletica-ortodontia-aubrey-fernando/
LOCATION:Hotel Plaza Inn Economic/São Paulo – SP 
CATEGORIES:São Paulo
END:VEVENT
END:VCALENDAR