BEGIN:VCALENDAR
VERSION:2.0
PRODID:-//Peclab - ECPv6.15.11//NONSGML v1.0//EN
CALSCALE:GREGORIAN
METHOD:PUBLISH
X-ORIGINAL-URL:https://pecantigo.com.br
X-WR-CALDESC:Eventos para Peclab
REFRESH-INTERVAL;VALUE=DURATION:PT1H
X-Robots-Tag:noindex
X-PUBLISHED-TTL:PT1H
BEGIN:VTIMEZONE
TZID:America/Sao_Paulo
BEGIN:STANDARD
TZOFFSETFROM:-0200
TZOFFSETTO:-0300
TZNAME:-03
DTSTART:20170219T020000
END:STANDARD
BEGIN:DAYLIGHT
TZOFFSETFROM:-0300
TZOFFSETTO:-0200
TZNAME:-02
DTSTART:20171015T030000
END:DAYLIGHT
BEGIN:STANDARD
TZOFFSETFROM:-0200
TZOFFSETTO:-0300
TZNAME:-03
DTSTART:20180218T020000
END:STANDARD
BEGIN:DAYLIGHT
TZOFFSETFROM:-0300
TZOFFSETTO:-0200
TZNAME:-02
DTSTART:20181104T030000
END:DAYLIGHT
BEGIN:STANDARD
TZOFFSETFROM:-0200
TZOFFSETTO:-0300
TZNAME:-03
DTSTART:20190217T020000
END:STANDARD
END:VTIMEZONE
BEGIN:VEVENT
DTSTART;VALUE=DATE:20190321
DTEND;VALUE=DATE:20190324
DTSTAMP:20260424T123142
CREATED:20190211T175807Z
LAST-MODIFIED:20190212T180312Z
UID:5021-1553126400-1553385599@pecantigo.com.br
SUMMARY:CURSO DE IMERSÃO EM MARPE E EXTRA-ALVEOLARES | PECLAB
DESCRIPTION:MARPE\nMais uma edição do Curso de Imersão em MARPE e Extra-Alveolares ministrado pelos professores Dr. Túlio Andrade e Dr. Márcio Almeida. \n 
URL:https://pecantigo.com.br/agenda/curso-imersao-marpe-extra-alveolares-tulio-andrade-marcio-almeida/
LOCATION:Clínica Slice/Belo Horizonte – MG
ATTACH;FMTTYPE=image/jpeg:https://pecantigo.com.br/wp-content/uploads/2019/02/WhatsApp-Image-2019-02-10-at-22.33.01.jpg
END:VEVENT
BEGIN:VEVENT
DTSTART;VALUE=DATE:20190321
DTEND;VALUE=DATE:20190324
DTSTAMP:20260424T123142
CREATED:20190125T161356Z
LAST-MODIFIED:20190125T161444Z
UID:4908-1553126400-1553385599@pecantigo.com.br
SUMMARY:10° CONGRESSO INTERNACIONAL DE ORTODONTIA | PECLAB
DESCRIPTION:
URL:https://pecantigo.com.br/agenda/10-congresso-internacional-de-ortodontia-peclab/
CATEGORIES:Goiás
ATTACH;FMTTYPE=image/png:https://pecantigo.com.br/wp-content/uploads/2019/01/2019.01.17-POSTS-PARCEIROS-PECLAB-1200x1200-1.png
END:VEVENT
BEGIN:VEVENT
DTSTART;VALUE=DATE:20190320
DTEND;VALUE=DATE:20190324
DTSTAMP:20260424T123142
CREATED:20190215T183035Z
LAST-MODIFIED:20190215T183035Z
UID:5066-1553040000-1553385599@pecantigo.com.br
SUMMARY:BRASIL/ARGENTINA IN OFFICE | PECLAB
DESCRIPTION:IN OFFICE\nBrasil / Argentina In Office ministrado pelo professor Dr. Eduardo Macluf. \n 
URL:https://pecantigo.com.br/agenda/brasil-argentina-in-office-eduardo-macluf/
LOCATION:CEREO/Campinas – SP 
CATEGORIES:São Paulo
END:VEVENT
BEGIN:VEVENT
DTSTART;VALUE=DATE:20190316
DTEND;VALUE=DATE:20190317
DTSTAMP:20260424T123142
CREATED:20190123T120620Z
LAST-MODIFIED:20190123T120620Z
UID:4871-1552694400-1552780799@pecantigo.com.br
SUMMARY:CURSO PROTOCOLO MARPE | PECLAB
DESCRIPTION:PROTOCOLO\nCurso Protocolo MARPE ministrado pelo professor Dr. Túlio Andrade.
URL:https://pecantigo.com.br/agenda/curso-protocolo-marpe-tulio-andrade/
CATEGORIES:Paraná
ATTACH;FMTTYPE=image/jpeg:https://pecantigo.com.br/wp-content/uploads/2019/01/A5_EXAMES_MARP_1.jpg
END:VEVENT
BEGIN:VEVENT
DTSTART;VALUE=DATE:20190315
DTEND;VALUE=DATE:20190317
DTSTAMP:20260424T123142
CREATED:20190211T180507Z
LAST-MODIFIED:20190211T180507Z
UID:5024-1552608000-1552780799@pecantigo.com.br
SUMMARY:CURSO DE MARPE - EXPANDINDO LIMITES | PECLAB
DESCRIPTION:CURSO\nCurso de MARPE ministrado pelos professores Dr. Daniel Brunetto e Dr. Lincoln Nojima. \n 
URL:https://pecantigo.com.br/agenda/marpe-prime-daniel-brunetoo-lincoln-nojima-expandindo-limites/
CATEGORIES:Curitiba
ATTACH;FMTTYPE=image/jpeg:https://pecantigo.com.br/wp-content/uploads/2019/02/instagram.001.jpeg
END:VEVENT
BEGIN:VEVENT
DTSTART;VALUE=DATE:20190315
DTEND;VALUE=DATE:20190317
DTSTAMP:20260424T123142
CREATED:20190107T132055Z
LAST-MODIFIED:20190108T160558Z
UID:4761-1552608000-1552780799@pecantigo.com.br
SUMMARY:IMERSÃO EM MINI-IMPLANTES ORTODÔNTICOS | PECLAB
DESCRIPTION:IMERSÃO\nImersão em Mini-Implantes Ortodônticos proferido pelo professor Dr. Daniel Figueiredo. \n 
URL:https://pecantigo.com.br/agenda/imersao-mini-implantes-ortodonticos-daniel-figueiredo-2/
LOCATION:Grand Mercure/Rio de Janeiro – RJ  
CATEGORIES:Rio de Janeiro
ATTACH;FMTTYPE=image/jpeg:https://pecantigo.com.br/wp-content/uploads/2019/01/Daniel-Figueiredo-15-e-16.03.2019.jpeg
END:VEVENT
BEGIN:VEVENT
DTSTART;VALUE=DATE:20190314
DTEND;VALUE=DATE:20190317
DTSTAMP:20260424T123142
CREATED:20190214T141613Z
LAST-MODIFIED:20190214T141613Z
UID:5053-1552521600-1552780799@pecantigo.com.br
SUMMARY:CURSO DE ORTODONTIA BIOCRIATIVA | PECLAB
DESCRIPTION:CURSO\nOrtodontia Biocriativa ministrado pelo professor Dr.  Luiz Fernando Eto. \n 
URL:https://pecantigo.com.br/agenda/curso-ortodontia-biocriativa-luiz-eto-bh-2/
LOCATION:Belo Horizonte
CATEGORIES:Minas Gerais
END:VEVENT
BEGIN:VEVENT
DTSTART;VALUE=DATE:20190222
DTEND;VALUE=DATE:20190224
DTSTAMP:20260424T123142
CREATED:20190125T160936Z
LAST-MODIFIED:20190125T160936Z
UID:4904-1550793600-1550966399@pecantigo.com.br
SUMMARY:ANCORAGEM ESQUELÉTICA MINI-IMPLANTES EXTRA-ALVEOLARES | PECLAB
DESCRIPTION:Curso de Ancoragem Esquelética com Mini-Implantes Extra-Alveolares ministrado pelo professor Dr. Márcio Almeida. \n 
URL:https://pecantigo.com.br/agenda/ancoragem-esqueletica-extra-alveolares-marcio-almeida/
CATEGORIES:São Paulo
ATTACH;FMTTYPE=image/jpeg:https://pecantigo.com.br/wp-content/uploads/2019/01/IMG-20190123-WA0002.jpg
END:VEVENT
BEGIN:VEVENT
DTSTART;VALUE=DATE:20190221
DTEND;VALUE=DATE:20190223
DTSTAMP:20260424T123142
CREATED:20190214T141050Z
LAST-MODIFIED:20190214T141050Z
UID:5051-1550707200-1550879999@pecantigo.com.br
SUMMARY:CURSO DE ORTODONTIA BIOCRIATIVA | PECLAB
DESCRIPTION:Curso\nOrtodontia Biocriativa ministrado pelo professor Dr. Luiz Fernando Eto. \n 
URL:https://pecantigo.com.br/agenda/ortodontia-biocriativa-luiz-fernando-eto-bh/
LOCATION:CETRO  Belo Horizonte – MG
CATEGORIES:Minas Gerais
END:VEVENT
BEGIN:VEVENT
DTSTART;VALUE=DATE:20190218
DTEND;VALUE=DATE:20190220
DTSTAMP:20260424T123142
CREATED:20190123T171220Z
LAST-MODIFIED:20190204T165320Z
UID:4887-1550448000-1550620799@pecantigo.com.br
SUMMARY:ANCORAGEM ESQUELÉTICA EXTRA-ALVEOLAR | PECLAB
DESCRIPTION:EXTRA-ALVEOLAR\nAncoragem Esquelética Extra-Alveolar ministrado pelo professor Dr. Eduardo Macluf. \n 
URL:https://pecantigo.com.br/agenda/ancoragem-esqueletica-extra-alveolar-eduardo-macluf/
LOCATION:BIONEP/Pato Branco – PR 
CATEGORIES:Paraná
ATTACH;FMTTYPE=image/jpeg:https://pecantigo.com.br/wp-content/uploads/2019/01/Curso-Dr.-Eduardo-Macluf-18-e-19.02.2019.jpeg
END:VEVENT
BEGIN:VEVENT
DTSTART;VALUE=DATE:20190216
DTEND;VALUE=DATE:20190218
DTSTAMP:20260424T123142
CREATED:20190118T171547Z
LAST-MODIFIED:20190118T171547Z
UID:4830-1550275200-1550447999@pecantigo.com.br
SUMMARY:CURSO DE MINI-IMPLANTES EXTRA-ALVEOLARES E MARPE | PECLAB
DESCRIPTION:MARPE\nMini-Implantes Extra Alveolares e MARPE ministrado pelo professor Dr. Sidnei Valieri. \n 
URL:https://pecantigo.com.br/agenda/mini-implantes-extra-alveolares-marpe-sidnei-valieri/
LOCATION:AEPC /Bento Gonçalves – RS 
END:VEVENT
BEGIN:VEVENT
DTSTART;VALUE=DATE:20190214
DTEND;VALUE=DATE:20190217
DTSTAMP:20260424T123142
CREATED:20181219T140700Z
LAST-MODIFIED:20181219T140700Z
UID:4696-1550102400-1550361599@pecantigo.com.br
SUMMARY:ANCORAGEM ESQUELÉTICA EM ORTODONTIA | PECLAB
DESCRIPTION:ANCORAGEM\nAncoragem Esquelética em Ortodontia ministrado pelo professor  Dr. Aubrey Fernando Fabre. \n 
URL:https://pecantigo.com.br/agenda/ancoragem-esqueletica-ortodontia-aubrey-fernando/
LOCATION:Hotel Plaza Inn Economic/São Paulo – SP 
CATEGORIES:São Paulo
END:VEVENT
BEGIN:VEVENT
DTSTART;VALUE=DATE:20190214
DTEND;VALUE=DATE:20190215
DTSTAMP:20260424T123142
CREATED:20181207T192759Z
LAST-MODIFIED:20181219T140324Z
UID:4614-1550102400-1550188799@pecantigo.com.br
SUMMARY:CURSO DE MINI-IMPLANTES ORTODÔNTICOS | PECLAB
DESCRIPTION:Curso\nCurso teórico/prático de mini-implantes ortodônticos  ministrado pelo professor Dr. Carlo Marassi. \n 
URL:https://pecantigo.com.br/agenda/curso-mini-implantes-ortodonticos-carlo-marassi/
LOCATION:Marassi Treinamentos/ Rio de Janeiro – RJ 
CATEGORIES:Rio de Janeiro
END:VEVENT
BEGIN:VEVENT
DTSTART;VALUE=DATE:20190213
DTEND;VALUE=DATE:20190216
DTSTAMP:20260424T123142
CREATED:20190118T170429Z
LAST-MODIFIED:20190118T170429Z
UID:4827-1550016000-1550275199@pecantigo.com.br
SUMMARY:IMERSÃO NOS SISTEMAS INTER E EXTRARRADICULARES | PECLAB
DESCRIPTION:Imersão nos Sistemas inter e extrarradiculares ministrado pelo professor Dr. Fernando Pedrin. \n 
URL:https://pecantigo.com.br/agenda/imersao-sistemas-inter-extrarradiculares-fernando-pedrin/
LOCATION:V&G Funorte/Bauru – SP 
CATEGORIES:São Paulo
END:VEVENT
BEGIN:VEVENT
DTSTART;VALUE=DATE:20190207
DTEND;VALUE=DATE:20190210
DTSTAMP:20260424T123142
CREATED:20190123T170758Z
LAST-MODIFIED:20190123T170758Z
UID:4882-1549497600-1549756799@pecantigo.com.br
SUMMARY:AVANÇADO EM ANCORAGEM ESQUELÉTICA EXTRA-ALVEOLAR | PECLAB
DESCRIPTION:ANCORAGEM\nAvançado em Ancoragem Esquelética Extra-Alveolar ministrad0 pelos professores Dr. Cláudio Azenha e Dr. Eduardo Macluf. \n  \n 
URL:https://pecantigo.com.br/agenda/avancado-ancoragem-esqueletica-extra-alveolar-claudio-azenha-eduardo-macluf/
LOCATION:CEREO/Campinas – SP
CATEGORIES:São Paulo
END:VEVENT
BEGIN:VEVENT
DTSTART;VALUE=DATE:20190207
DTEND;VALUE=DATE:20190209
DTSTAMP:20260424T123142
CREATED:20190123T170414Z
LAST-MODIFIED:20190123T170425Z
UID:4879-1549497600-1549670399@pecantigo.com.br
SUMMARY:ESPECIALIZAÇÃO EM ORTODONTIA | PECLAB
DESCRIPTION:ESPECIALIZAÇÃO\nEspecialização em Ortodontia ministrado pelo professor Dr. André Henrique Mazzetto. \n  \n 
URL:https://pecantigo.com.br/agenda/especializacao-ortodontia-andre-mazzetto/
LOCATION:CESC – SC/Criciúma – SC
CATEGORIES:Santa Catarina
END:VEVENT
BEGIN:VEVENT
DTSTART;VALUE=DATE:20190201
DTEND;VALUE=DATE:20190203
DTSTAMP:20260424T123142
CREATED:20181219T140153Z
LAST-MODIFIED:20181219T140153Z
UID:4692-1548979200-1549151999@pecantigo.com.br
SUMMARY:MECÂNICAS COM MOLAS PROPULSORAS APOIADAS EM MINI-IMPLANTES EXTRA E INTER ALVEOLARES | PECLAB
DESCRIPTION:MECÂNICAS\nMecânicas com molas propulsoras apoiadas em mini implantes extra e inter alveolares ministrado pelos professores Dr. Paulo Sérgio Moreira e Dr. Marcos André Alves da Silva. \n 
URL:https://pecantigo.com.br/agenda/mecaniccas-molas-propulsoras/
LOCATION:Ident Maceió – AL
CATEGORIES:Alagoas
ATTACH;FMTTYPE=image/jpeg:https://pecantigo.com.br/wp-content/uploads/2018/12/Curso-Dr.-Marcos-Andre-01-e-02.02.2019.jpeg
END:VEVENT
BEGIN:VEVENT
DTSTART;VALUE=DATE:20190131
DTEND;VALUE=DATE:20190201
DTSTAMP:20260424T123142
CREATED:20181219T132728Z
LAST-MODIFIED:20181219T132728Z
UID:4689-1548892800-1548979199@pecantigo.com.br
SUMMARY:CURSO TEÓRICO E PRÁTICO MARPE E EXTRA-ALVEOLARES | PECLAB
DESCRIPTION:MARPE\nCurso teórico e prático MARPE e Extra-Alveolares proferido pelo professor Dr. Alexandre Magno dos Santos. \n 
URL:https://pecantigo.com.br/agenda/curso-teorico-pratico-marpe-extra-alveolares-alexandre-magno-marden-bastos/
LOCATION:Instituto Marden Bastos/Alfenas – MG 
CATEGORIES:Minas Gerais
END:VEVENT
BEGIN:VEVENT
DTSTART;VALUE=DATE:20190128
DTEND;VALUE=DATE:20190130
DTSTAMP:20260424T123142
CREATED:20181207T191559Z
LAST-MODIFIED:20181207T191559Z
UID:4608-1548633600-1548806399@pecantigo.com.br
SUMMARY:ANCORAGEM ESQUELÉTICA | PECLAB
DESCRIPTION:ANCORAGEM\nAncoragem Esquelética ministrado pelo professor Dr. Júlio de Araújo Gurgel. \n  \n 
URL:https://pecantigo.com.br/agenda/ancoragem-esqueletica-julio-gurgel/
LOCATION:FAOA (APCD)/São Paulo – SP 
CATEGORIES:São Paulo
END:VEVENT
BEGIN:VEVENT
DTSTART;VALUE=DATE:20190126
DTEND;VALUE=DATE:20190128
DTSTAMP:20260424T123142
CREATED:20181219T132357Z
LAST-MODIFIED:20181219T132357Z
UID:4684-1548460800-1548633599@pecantigo.com.br
SUMMARY:IMERSÃO EM MARPE E EXTRA-ALVEOLARES | PECLAB
DESCRIPTION:MARPE\nImersão em MARPE e Extra-Alveolares ministrado pelo professor Dr. Túlio Rodrigues de Andrade. \n  \n 
URL:https://pecantigo.com.br/agenda/imersao-marpe-extra-alveolares-tulio-andrade/
LOCATION:Clínica Slice/Belo Horizonte – MG
CATEGORIES:Minas Gerais
ATTACH;FMTTYPE=image/jpeg:https://pecantigo.com.br/wp-content/uploads/2018/12/Curso-Tulio-Andrade-26-e-27.01.2019.jpeg
END:VEVENT
BEGIN:VEVENT
DTSTART;VALUE=DATE:20190124
DTEND;VALUE=DATE:20190125
DTSTAMP:20260424T123142
CREATED:20181219T131936Z
LAST-MODIFIED:20181219T140742Z
UID:4680-1548288000-1548374399@pecantigo.com.br
SUMMARY:MARPE – EXPANSÃO MAXILAR ASSISTIDA POR MINI-IMPLANTES | PECLAB
DESCRIPTION:MARPE\nMARPE – Expansão maxilar assistida por mini-implantes proferido pelos professores Dr. Daniel Brunetto e Dr. Lincoln Nojima. \n  \n 
URL:https://pecantigo.com.br/agenda/marpe-expansao-maxilar-assistida-mini-implantes-daniel-lincoln/
LOCATION:ABOR – RS/Porto Alegre – RS
CATEGORIES:Rio Grande do Sul
ATTACH;FMTTYPE=image/jpeg:https://pecantigo.com.br/wp-content/uploads/2018/12/Curso-Lincoln-Nojima-e-Daniel-Brunetto-23-e-24.01.2019.jpeg
END:VEVENT
BEGIN:VEVENT
DTSTART;VALUE=DATE:20190124
DTEND;VALUE=DATE:20190125
DTSTAMP:20260424T123142
CREATED:20181219T131256Z
LAST-MODIFIED:20181219T131256Z
UID:4676-1548288000-1548374399@pecantigo.com.br
SUMMARY:CAPACITAÇÃO EM MINI-IMPLANTES EXTRA-ALVEOLARES | PECLAB
DESCRIPTION:EXTRA-ALVEOLARES\nCapacitação em Mini-Implantes Extra-Alveolares ministrado pelos professores Dra. Karina Santana Cruz e Dr. Márcio Almeida . \n 
URL:https://pecantigo.com.br/agenda/capacitacao-mini-implantes-extra-alveolares/
LOCATION:ABOR – SE/Aracajú – SE
CATEGORIES:Sergipe
ATTACH;FMTTYPE=image/jpeg:https://pecantigo.com.br/wp-content/uploads/2018/12/Curso-Karina-Santana-e-Márcio-Almeida-24.01.2019-2.jpeg
END:VEVENT
BEGIN:VEVENT
DTSTART;VALUE=DATE:20181219
DTEND;VALUE=DATE:20181220
DTSTAMP:20260424T123142
CREATED:20181207T161326Z
LAST-MODIFIED:20181207T161326Z
UID:4605-1545177600-1545263999@pecantigo.com.br
SUMMARY:ESPECIALIZAÇÃO EM ORTODONTIA | PECLAB
DESCRIPTION:ESPECIALIZAÇÃO\nEspecialização em Ortodontia ministrado pelo professor Dr. Bruno da Silva Vieira. \n 
URL:https://pecantigo.com.br/agenda/especializacao-ortodontia-bruno-silva/
LOCATION:CETRO  Belo Horizonte – MG
CATEGORIES:Minas Gerais
END:VEVENT
BEGIN:VEVENT
DTSTART;VALUE=DATE:20181218
DTEND;VALUE=DATE:20181219
DTSTAMP:20260424T123142
CREATED:20181219T124310Z
LAST-MODIFIED:20181219T124310Z
UID:4674-1545091200-1545177599@pecantigo.com.br
SUMMARY:HANDS ON MARPE EM ORTODONTIA| PECLAB
DESCRIPTION:MARPE\nHands on MARPE em Ortodontia ministrado pela professora  Dra. Cristiane Lucas de Farias Luz. \n 
URL:https://pecantigo.com.br/agenda/hands-on-marpe-ortodontia-cristiane-farias-luz/
LOCATION:PrevOdonto Centro de Estudos/Rio de Janeiro – RJ\, PrevOdonto Centro de Estudos\, Rio de Janeiro\, Rio de Janeiro\, Brasil
CATEGORIES:Rio de Janeiro
END:VEVENT
BEGIN:VEVENT
DTSTART;VALUE=DATE:20181214
DTEND;VALUE=DATE:20181216
DTSTAMP:20260424T123142
CREATED:20181219T123754Z
LAST-MODIFIED:20181219T123754Z
UID:4671-1544745600-1544918399@pecantigo.com.br
SUMMARY:CURSO ORTHO ADVANCED | PECLAB
DESCRIPTION:ORTHO\nCurso de Ortho Advanced ministrado pelo professor Dr. Stenyo Tavares. \n 
URL:https://pecantigo.com.br/agenda/curso-ortho-advanced-stenyo-tavares/
LOCATION:CPGO/Recife – PE 
CATEGORIES:Pernambuco
END:VEVENT
BEGIN:VEVENT
DTSTART;VALUE=DATE:20181212
DTEND;VALUE=DATE:20181214
DTSTAMP:20260424T123142
CREATED:20181129T145152Z
LAST-MODIFIED:20181129T145152Z
UID:4561-1544572800-1544745599@pecantigo.com.br
SUMMARY:HANDS ON MINI-IMPLANTES INTER E EXTRA- RADICULAR | PECLAB
DESCRIPTION:HANDS ON\nHands on Mini-Implantes Inter e Extra -Radicular em Ortodontia ministrado pela professora Dra. Cristiane Lucas de\nFarias Luz. \n  \n 
URL:https://pecantigo.com.br/agenda/hans-on-mini-implantes-inter-extra-radicular-peclab-cristiane-luz/
LOCATION:PrevOdonto/ Rio de Janeiro – RJ
CATEGORIES:Rio de Janeiro
END:VEVENT
BEGIN:VEVENT
DTSTART;VALUE=DATE:20181206
DTEND;VALUE=DATE:20181207
DTSTAMP:20260424T123142
CREATED:20181129T144122Z
LAST-MODIFIED:20181129T144122Z
UID:4558-1544054400-1544140799@pecantigo.com.br
SUMMARY:ESPECIALIZAÇÃO EM ORTODONTIA | PECLAB
DESCRIPTION:ESPECIALIZAÇÃO\nEspecialização em Ortodontia ministrado pelo professor Dr. Dr. Bruno Furbino Penna. \nData: 06.12.2018 \nLocal: FUNORTE/Montes Claros – MG
URL:https://pecantigo.com.br/agenda/especializacao-ortodontia-bruno-furbino/
LOCATION:FUNORTE/Montes Claros – MG 
CATEGORIES:Minas Gerais
END:VEVENT
BEGIN:VEVENT
DTSTART;VALUE=DATE:20181205
DTEND;VALUE=DATE:20181209
DTSTAMP:20260424T123142
CREATED:20181129T143827Z
LAST-MODIFIED:20181129T143827Z
UID:4555-1543968000-1544313599@pecantigo.com.br
SUMMARY:ESPECIALIZAÇÃO EM ORTODONTIA | PECLAB
DESCRIPTION:ESPECIALIZAÇÃO\nEspecialização em Ortodontia ministrado pelo professor Dr. Rodrigo Ravazzi. \n 
URL:https://pecantigo.com.br/agenda/especializacao-ortodontia-rodrigo-ravazzi/
LOCATION:ABO/Vitória da Conqusita – BA
CATEGORIES:Bahia
END:VEVENT
BEGIN:VEVENT
DTSTART;VALUE=DATE:20181205
DTEND;VALUE=DATE:20181206
DTSTAMP:20260424T123142
CREATED:20181129T143513Z
LAST-MODIFIED:20181129T143513Z
UID:4552-1543968000-1544054399@pecantigo.com.br
SUMMARY:ESPECIALIZAÇÃO EM ORTODONTIA | PECLAB
DESCRIPTION:ORTODONTIA\nEspecialização em Ortodontia ministrado pelo professor Dr. Adriano César Trevisi. \n 
URL:https://pecantigo.com.br/agenda/especializacao-ortodontia-adriano-trevisi/
LOCATION:Trevisi Zanelato/Cuiabá – MT 
CATEGORIES:Mato Grosso
END:VEVENT
BEGIN:VEVENT
DTSTART;VALUE=DATE:20181201
DTEND;VALUE=DATE:20181203
DTSTAMP:20260424T123142
CREATED:20181128T175955Z
LAST-MODIFIED:20181128T175955Z
UID:4543-1543622400-1543795199@pecantigo.com.br
SUMMARY:IMERSÃO EM MINI-IMPLANTES ORTODÔNTICOS | PECLAB
DESCRIPTION:Imersão\nImersão em Mini-Implantes ortodônticos ministrado pelo prof. Dr. Alan Câmara Lins.
URL:https://pecantigo.com.br/agenda/imersao-mini-implantes-ortodonticos-alan-camara/
LOCATION:Blue Tree Towers Millenium/Porto Alegre – RS
CATEGORIES:Rio Grande do Sul
END:VEVENT
END:VCALENDAR