BEGIN:VCALENDAR
VERSION:2.0
PRODID:-//Peclab - ECPv6.15.11//NONSGML v1.0//EN
CALSCALE:GREGORIAN
METHOD:PUBLISH
X-WR-CALNAME:Peclab
X-ORIGINAL-URL:https://pecantigo.com.br
X-WR-CALDESC:Eventos para Peclab
REFRESH-INTERVAL;VALUE=DURATION:PT1H
X-Robots-Tag:noindex
X-PUBLISHED-TTL:PT1H
BEGIN:VTIMEZONE
TZID:America/Sao_Paulo
BEGIN:STANDARD
TZOFFSETFROM:-0200
TZOFFSETTO:-0300
TZNAME:-03
DTSTART:20170219T020000
END:STANDARD
BEGIN:DAYLIGHT
TZOFFSETFROM:-0300
TZOFFSETTO:-0200
TZNAME:-02
DTSTART:20171015T030000
END:DAYLIGHT
BEGIN:STANDARD
TZOFFSETFROM:-0200
TZOFFSETTO:-0300
TZNAME:-03
DTSTART:20180218T020000
END:STANDARD
BEGIN:DAYLIGHT
TZOFFSETFROM:-0300
TZOFFSETTO:-0200
TZNAME:-02
DTSTART:20181104T030000
END:DAYLIGHT
BEGIN:STANDARD
TZOFFSETFROM:-0200
TZOFFSETTO:-0300
TZNAME:-03
DTSTART:20190217T020000
END:STANDARD
END:VTIMEZONE
BEGIN:VTIMEZONE
TZID:America/Bahia
BEGIN:STANDARD
TZOFFSETFROM:-0300
TZOFFSETTO:-0300
TZNAME:-03
DTSTART:20170101T000000
END:STANDARD
END:VTIMEZONE
BEGIN:VEVENT
DTSTART;VALUE=DATE:20181205
DTEND;VALUE=DATE:20181209
DTSTAMP:20260424T173526
CREATED:20181129T143827Z
LAST-MODIFIED:20181129T143827Z
UID:4555-1543968000-1544313599@pecantigo.com.br
SUMMARY:ESPECIALIZAÇÃO EM ORTODONTIA | PECLAB
DESCRIPTION:ESPECIALIZAÇÃO\nEspecialização em Ortodontia ministrado pelo professor Dr. Rodrigo Ravazzi. \n 
URL:https://pecantigo.com.br/agenda/especializacao-ortodontia-rodrigo-ravazzi/
LOCATION:ABO/Vitória da Conqusita – BA
CATEGORIES:Bahia
END:VEVENT
BEGIN:VEVENT
DTSTART;VALUE=DATE:20181205
DTEND;VALUE=DATE:20181206
DTSTAMP:20260424T173526
CREATED:20181129T143513Z
LAST-MODIFIED:20181129T143513Z
UID:4552-1543968000-1544054399@pecantigo.com.br
SUMMARY:ESPECIALIZAÇÃO EM ORTODONTIA | PECLAB
DESCRIPTION:ORTODONTIA\nEspecialização em Ortodontia ministrado pelo professor Dr. Adriano César Trevisi. \n 
URL:https://pecantigo.com.br/agenda/especializacao-ortodontia-adriano-trevisi/
LOCATION:Trevisi Zanelato/Cuiabá – MT 
CATEGORIES:Mato Grosso
END:VEVENT
BEGIN:VEVENT
DTSTART;VALUE=DATE:20181201
DTEND;VALUE=DATE:20181203
DTSTAMP:20260424T173526
CREATED:20181128T175955Z
LAST-MODIFIED:20181128T175955Z
UID:4543-1543622400-1543795199@pecantigo.com.br
SUMMARY:IMERSÃO EM MINI-IMPLANTES ORTODÔNTICOS | PECLAB
DESCRIPTION:Imersão\nImersão em Mini-Implantes ortodônticos ministrado pelo prof. Dr. Alan Câmara Lins.
URL:https://pecantigo.com.br/agenda/imersao-mini-implantes-ortodonticos-alan-camara/
LOCATION:Blue Tree Towers Millenium/Porto Alegre – RS
CATEGORIES:Rio Grande do Sul
END:VEVENT
BEGIN:VEVENT
DTSTART;VALUE=DATE:20181130
DTEND;VALUE=DATE:20181201
DTSTAMP:20260424T173526
CREATED:20181128T175314Z
LAST-MODIFIED:20181128T175440Z
UID:4540-1543536000-1543622399@pecantigo.com.br
SUMMARY:IMERSÃO MARPE HANDS ON | PECLAB
DESCRIPTION:IMERSÃO\nImersão MARPE hands on ministrado pelo profissão Dr. Túlio Andrade. \n 
URL:https://pecantigo.com.br/agenda/imersao-marpe-hands-on-peclab-slice-bh/
LOCATION:: Clínica Slice
CATEGORIES:Minas Gerais
ATTACH;FMTTYPE=image/jpeg:https://pecantigo.com.br/wp-content/uploads/2018/11/Curso-Tulio-Andrade-30.11.2018.jpeg
END:VEVENT
BEGIN:VEVENT
DTSTART;VALUE=DATE:20181130
DTEND;VALUE=DATE:20181201
DTSTAMP:20260424T173526
CREATED:20181122T171752Z
LAST-MODIFIED:20181122T171752Z
UID:4445-1543536000-1543622399@pecantigo.com.br
SUMMARY:CURSO DE MARPE PRIME | PECLAB
DESCRIPTION:PRIME\nCurso de MARPE prime ministrado pelo professor Dr. Daniel Brunetto. \n 
URL:https://pecantigo.com.br/agenda/curso-marpe-prime-daniel-brunetto/
LOCATION:Hotel Radisson/Rio de Janeiro – RJ
CATEGORIES:Rio de Janeiro
END:VEVENT
BEGIN:VEVENT
DTSTART;TZID=America/Sao_Paulo:20181129T000000
DTEND;TZID=America/Sao_Paulo:20181129T000000
DTSTAMP:20260424T173526
CREATED:20181112T135826Z
LAST-MODIFIED:20181112T135826Z
UID:4290-1543449600-1543449600@pecantigo.com.br
SUMMARY:MINI-IMPLANTES EXTRA-ALVEOLARES | PECLAB
DESCRIPTION:Mini-Implantes Extra-Alveolares ministrado pelo professor  Dr. Christian Reis Lemes.
URL:https://pecantigo.com.br/agenda/mini-implantes-extra-alveolares-peclab/
LOCATION:APCD/Ribeirão Preto – SP\, APCD\, Ribeirão Preto\, São Paulo\, Brasil
ATTACH;FMTTYPE=image/jpeg:https://pecantigo.com.br/wp-content/uploads/2018/11/Christian-Reis-159.18SP.jpeg
END:VEVENT
BEGIN:VEVENT
DTSTART;TZID=America/Sao_Paulo:20181129T000000
DTEND;TZID=America/Sao_Paulo:20181129T000000
DTSTAMP:20260424T173526
CREATED:20181112T135338Z
LAST-MODIFIED:20181112T140028Z
UID:4287-1543449600-1543449600@pecantigo.com.br
SUMMARY:HANDS ON MARPE EM ORTODONTIA | PECLAB
DESCRIPTION:Hands on MARPE em Ortodontia ministrado pela professora Dra. Cristiane Lucas de Farias Luz.
URL:https://pecantigo.com.br/agenda/hands-on-marpe-em-ortodontia-peclab/
LOCATION:PrevOdonto Centro de Estudos/Rio de Janeiro – RJ\, PrevOdonto Centro de Estudos\, Rio de Janeiro\, Rio de Janeiro\, Brasil
CATEGORIES:São Paulo
END:VEVENT
BEGIN:VEVENT
DTSTART;VALUE=DATE:20181129
DTEND;VALUE=DATE:20181130
DTSTAMP:20260424T173526
CREATED:20181122T172435Z
LAST-MODIFIED:20181122T172435Z
UID:4451-1543449600-1543535999@pecantigo.com.br
SUMMARY:HANDS ON EM MARPE - ORTODONTIA | PECLAB
DESCRIPTION:Hands on\nHands on MARPE em Ortodontia ministrado pela professora Dra. Cristiane Lucas de Farias Luz. \n 
URL:https://pecantigo.com.br/agenda/hands-on-marpe-ortodontia-cristiane-lucas-luz/
LOCATION:PrevOdonto Centro de Estudos/Rio de Janeiro – RJ
CATEGORIES:Rio de Janeiro
ATTACH;FMTTYPE=application/pdf:https://pecantigo.com.br/wp-content/uploads/2018/11/Curso-Dra.-Cristiane-Luz-29.11.2018-1.pdf
END:VEVENT
BEGIN:VEVENT
DTSTART;VALUE=DATE:20181129
DTEND;VALUE=DATE:20181130
DTSTAMP:20260424T173526
CREATED:20181122T172054Z
LAST-MODIFIED:20181122T172054Z
UID:4448-1543449600-1543535999@pecantigo.com.br
SUMMARY:MINI-IMPLANTES EXTRA-ALVEOLARES | PECLAB
DESCRIPTION:MINI-IMPLANTES\nMini-Implantes Extra-Alveolares ministrado pelo professor  Dr. Christian Reis Lemes. \n 
URL:https://pecantigo.com.br/agenda/mini-implantes-extra-alveolares-christian-reis-apcd/
LOCATION:APCD/Ribeirão Preto – SP
CATEGORIES:São Paulo
ATTACH;FMTTYPE=image/jpeg:https://pecantigo.com.br/wp-content/uploads/2018/11/Christian-Reis-159.18SP.jpeg
END:VEVENT
BEGIN:VEVENT
DTSTART;VALUE=DATE:20181125
DTEND;VALUE=DATE:20181203
DTSTAMP:20260424T173526
CREATED:20181112T134905Z
LAST-MODIFIED:20181126T151126Z
UID:4284-1543104000-1543795199@pecantigo.com.br
SUMMARY:OTIMIZANDO MECÂNICA ORTODÔNTICA COM MINI-IMPLANTES | PECLAB
DESCRIPTION:Otimizando mecânica ortodôntica com mini-implantes ministrado pelos professores Dr. Ney Quagliatto Santos e Dr. Marcos André Alves da\nSilva.
URL:https://pecantigo.com.br/agenda/otimizando-mecanica-ortodontica-com-mini-implantes-peclab/
LOCATION:Quagliatto cursos/ – AL\, Maceió\, Alagoas\, Brasil
ATTACH;FMTTYPE=image/png:https://pecantigo.com.br/wp-content/uploads/2018/11/AGENDA-cursos-7.png
END:VEVENT
BEGIN:VEVENT
DTSTART;VALUE=DATE:20181124
DTEND;VALUE=DATE:20181126
DTSTAMP:20260424T173526
CREATED:20181122T171515Z
LAST-MODIFIED:20181122T171515Z
UID:4442-1543017600-1543190399@pecantigo.com.br
SUMMARY:IMERSÃO EM MINI-IMPLANTES ORTODÔNTICOS | PECLAB
DESCRIPTION:IMERSÃO\nImersão em Mini-Implantes Ortodônticos ministrado pelo professor Dr. Daniel Figueiredo. \n 
URL:https://pecantigo.com.br/agenda/imersao-mini-implantes-ortodonticos-daniel-figueiredo/
LOCATION:Núcleo Odontológico/ Belo Horizonte – MG
CATEGORIES:Minas Gerais
ATTACH;FMTTYPE=image/jpeg:https://pecantigo.com.br/wp-content/uploads/2018/11/Daniel-Figueiredo-148.18MG.jpeg
END:VEVENT
BEGIN:VEVENT
DTSTART;VALUE=DATE:20181124
DTEND;VALUE=DATE:20181125
DTSTAMP:20260424T173526
CREATED:20181114T173158Z
LAST-MODIFIED:20181114T173406Z
UID:4348-1543017600-1543103999@pecantigo.com.br
SUMMARY:RESOLUÇÃO DE PROBLEMAS TRANSVERSAIS COM EXPANSÃO ASSISTIDA POR MINI-IMPLANTES
DESCRIPTION:Resolução de problemas transversais com expansão assistida por mini-implantes ministrado pela professora Dra. Cibele Braga de Oliveira. \n 
URL:https://pecantigo.com.br/agenda/problemas-transversais-expansao-assistida/
LOCATION:Centro de Convenções do Fiesta Hotel/Salvador – BA
CATEGORIES:Bahia
END:VEVENT
BEGIN:VEVENT
DTSTART;VALUE=DATE:20181123
DTEND;VALUE=DATE:20181125
DTSTAMP:20260424T173526
CREATED:20181122T171228Z
LAST-MODIFIED:20181122T171228Z
UID:4439-1542931200-1543103999@pecantigo.com.br
SUMMARY:ANCORAGEM ESQUELÉTICA E SUA APLICAÇÃO NA ORTODONTIA E ORTOPEDIA FACIAL | PECLAB
DESCRIPTION:ANCORAGEM\nAncoragem Esquelética e sua aplicação na Ortodontia e Ortopedia facial ministrado pelo professor  Dr. Francisco Nogueira. \n 
URL:https://pecantigo.com.br/agenda/ancoragem-esqueletica-aplicacao-ortodontia-ortopedia-facial-2/
LOCATION:ABO/ Amapá – AP
CATEGORIES:Amapá
ATTACH;FMTTYPE=image/jpeg:https://pecantigo.com.br/wp-content/uploads/2018/11/Curso-Dr.-Francisco-Nogueira-23-e-24.11.2018.jpeg
END:VEVENT
BEGIN:VEVENT
DTSTART;VALUE=DATE:20181123
DTEND;VALUE=DATE:20181124
DTSTAMP:20260424T173526
CREATED:20181122T170604Z
LAST-MODIFIED:20181122T170604Z
UID:4433-1542931200-1543017599@pecantigo.com.br
SUMMARY:ESPECIALIZAÇÃO EM ORTODONTIA | PECLAB
DESCRIPTION:ESPECIALIZAÇÃO\nEspecialização em Ortodontia ministrado pelo professor Dr. Horácio Pompei Filho. \n 
URL:https://pecantigo.com.br/agenda/especializacao-ortodontia-horacio-pompei-filho/
LOCATION:Universidade Estácio de Sá/Juiz de Fora – MG
CATEGORIES:Minas Gerais
END:VEVENT
BEGIN:VEVENT
DTSTART;VALUE=DATE:20181122
DTEND;VALUE=DATE:20181124
DTSTAMP:20260424T173526
CREATED:20181122T170849Z
LAST-MODIFIED:20181122T170849Z
UID:4436-1542844800-1543017599@pecantigo.com.br
SUMMARY:CREDENCIAMENTO EM MINI-IMPLANTES | PECLAB
DESCRIPTION:CREDENCIAMENTO\nCredenciamento em Mini-Implantes ministrado pelos professores Dr. Sérgio Penido e Dr. Evandro Bronzi \n 
URL:https://pecantigo.com.br/agenda/credenciamento-mini-implantes-sergio-penido-evandro-bronzi/
LOCATION:IBEN/Manaus – AM
CATEGORIES:Amazonas
ATTACH;FMTTYPE=image/png:https://pecantigo.com.br/wp-content/uploads/2018/11/Sergio-Penido-e-Evandro-Bronzi-150.18AM..png
END:VEVENT
BEGIN:VEVENT
DTSTART;VALUE=DATE:20181121
DTEND;VALUE=DATE:20181123
DTSTAMP:20260424T173526
CREATED:20181122T170254Z
LAST-MODIFIED:20181122T170254Z
UID:4430-1542758400-1542931199@pecantigo.com.br
SUMMARY:CURSO DE MINI-IMPLANTES EXTRA-ALVEOLARES | PECLAB
DESCRIPTION:EXTRA-ALVEOLARES\nCurso de Mini-Implantes Extra-Alveolares ministrado pelo professor Dr. Paulo Roberto Pelúcio Câmara. \n 
URL:https://pecantigo.com.br/agenda/curso-mini-implantes-extra-alveolares-paulo-roberto-camara/
LOCATION:CEFOS/Belo Horizonte – MG
CATEGORIES:Minas Gerais
END:VEVENT
BEGIN:VEVENT
DTSTART;VALUE=DATE:20181121
DTEND;VALUE=DATE:20181123
DTSTAMP:20260424T173526
CREATED:20181122T170007Z
LAST-MODIFIED:20181122T170007Z
UID:4426-1542758400-1542931199@pecantigo.com.br
SUMMARY:ANCORAGEM ESQUELÉTICA E SUA APLICAÇÃO NA ORTODONTIA E ORTOPEDIA FACIAL | PECLAB
DESCRIPTION:ORTOPEDIA\nAncoragem Esquelética e sua aplicação na Ortodontia e Ortopedia facial ministrado pelo Dr. Francisco Nogueira. \n 
URL:https://pecantigo.com.br/agenda/ancoragem-esqueletica-aplicacao-ortodontia-ortopedia-facial-francisco-nogueira/
LOCATION:Escola Superior da Amazônia Esamaz/Belém – PA
CATEGORIES:Pará
ATTACH;FMTTYPE=image/jpeg:https://pecantigo.com.br/wp-content/uploads/2018/11/Curso-Dr.-Francisco-Nogueira-21-e-22.11.2018-2.jpeg
END:VEVENT
BEGIN:VEVENT
DTSTART;VALUE=DATE:20181121
DTEND;VALUE=DATE:20181125
DTSTAMP:20260424T173526
CREATED:20181121T182722Z
LAST-MODIFIED:20181121T182722Z
UID:4413-1542758400-1543103999@pecantigo.com.br
SUMMARY:ESPECIALIZAÇÃO EM ORTODONTIA | PECLAB
DESCRIPTION:ESPECIALIZAÇÃO\nEspecialização em Ortodontia ministrado pelos professores Dra. Neila Smanio e Dr. Gustavo Ruy Favarato. \n  \n 
URL:https://pecantigo.com.br/agenda/especializacao-ortodontia/
LOCATION:São Leopoldo Mandic/Vila Velha – ES
CATEGORIES:Espírito Santo
END:VEVENT
BEGIN:VEVENT
DTSTART;VALUE=DATE:20181117
DTEND;VALUE=DATE:20181118
DTSTAMP:20260424T173526
CREATED:20181121T181506Z
LAST-MODIFIED:20181121T181506Z
UID:4402-1542412800-1542499199@pecantigo.com.br
SUMMARY:CURSO DE IMERSÃO MARPE | PECLAB
DESCRIPTION:MARPE\nCurso de Imersão MARPE ministrado pelo professor Dr. Túlio Andrade. \n  \n 
URL:https://pecantigo.com.br/agenda/curso-imersao-marpe-tulio-andrade-slice/
LOCATION:: Clínica Slice
CATEGORIES:Minas Gerais
ATTACH;FMTTYPE=image/jpeg:https://pecantigo.com.br/wp-content/uploads/2018/11/IMG-20181107-WA0005.jpg
END:VEVENT
BEGIN:VEVENT
DTSTART;VALUE=DATE:20181116
DTEND;VALUE=DATE:20181118
DTSTAMP:20260424T173526
CREATED:20181121T181958Z
LAST-MODIFIED:20181121T181958Z
UID:4407-1542326400-1542499199@pecantigo.com.br
SUMMARY:CURSO DE MINI-IMPLANTE EXTRA-ALVEOLAR | PECLAB
DESCRIPTION:MINI-IMPLANTE\nCurso de Mini-Implante Extra-Alveolar ministrado pelo professor Dr. Christian Reis. \n 
URL:https://pecantigo.com.br/agenda/curso-mini-implante-extra-alveolar-christian-reis/
LOCATION:Instituto Líder
CATEGORIES:Bahia
END:VEVENT
BEGIN:VEVENT
DTSTART;VALUE=DATE:20181115
DTEND;VALUE=DATE:20181118
DTSTAMP:20260424T173526
CREATED:20181121T182355Z
LAST-MODIFIED:20181121T182355Z
UID:4410-1542240000-1542499199@pecantigo.com.br
SUMMARY:CURSO DE MINI-IMPLANTES INTER E EXTRA - RADICULAR | PECLAB
DESCRIPTION:MINI-IMPLANTES\nCurso de Mini-Implantes Inter e Extra – Radicular ministrado pelo professor Dr. Eduardo Macluf. \n  \n 
URL:https://pecantigo.com.br/agenda/curso-mini-implantes-inter-extra-radicular-macluf-chile/
LOCATION:Universidad Andres Bello/Santiago – Chile\, Chile
END:VEVENT
BEGIN:VEVENT
DTSTART;VALUE=DATE:20181112
DTEND;VALUE=DATE:20181113
DTSTAMP:20260424T173526
CREATED:20181121T180904Z
LAST-MODIFIED:20181121T181111Z
UID:4397-1541980800-1542067199@pecantigo.com.br
SUMMARY:CURSO DE APERFEIÇOAMENTO EM ORTODONTIA | PECLAB
DESCRIPTION:Aperfeiçoamento\nCurso de Aperfeiçoamento em Ortodontia proferido pela professora Dra. Leniana Santos Neves. \n 
URL:https://pecantigo.com.br/agenda/curso-aperfeicoamento-ortodontia-leniana-santos/
LOCATION:UFMG/Belo Horizonte
END:VEVENT
BEGIN:VEVENT
DTSTART;VALUE=DATE:20181110
DTEND;VALUE=DATE:20181111
DTSTAMP:20260424T173526
CREATED:20181121T180217Z
LAST-MODIFIED:20181121T181131Z
UID:4392-1541808000-1541894399@pecantigo.com.br
SUMMARY:CURSO DE MINI-IMPLANTES INTER-RADICULARES E EXTRA-ALVEOLARES | PECLAB
DESCRIPTION:Radiculares e Extra-Alveolares\nCurso de Mini-Implantes Inter-radiculares e Extra-Alveolares proferido pelo professor Dr. Lúcio Henrique E. Gurgel Maia. \n  \n 
URL:https://pecantigo.com.br/agenda/curso-de-mini-implantes-inter-radiculares-e-extra-alveolares-peclab/
LOCATION:CAP/Aracaju – SE
CATEGORIES:Sergipe
ATTACH;FMTTYPE=image/jpeg:https://pecantigo.com.br/wp-content/uploads/2018/11/Lucio-Maia-132.18SE.jpeg
END:VEVENT
END:VCALENDAR