BEGIN:VCALENDAR
VERSION:2.0
PRODID:-//Peclab - ECPv6.15.11//NONSGML v1.0//EN
CALSCALE:GREGORIAN
METHOD:PUBLISH
X-ORIGINAL-URL:https://pecantigo.com.br
X-WR-CALDESC:Eventos para Peclab
REFRESH-INTERVAL;VALUE=DURATION:PT1H
X-Robots-Tag:noindex
X-PUBLISHED-TTL:PT1H
BEGIN:VTIMEZONE
TZID:America/Sao_Paulo
BEGIN:STANDARD
TZOFFSETFROM:-0200
TZOFFSETTO:-0300
TZNAME:-03
DTSTART:20170219T020000
END:STANDARD
BEGIN:DAYLIGHT
TZOFFSETFROM:-0300
TZOFFSETTO:-0200
TZNAME:-02
DTSTART:20171015T030000
END:DAYLIGHT
BEGIN:STANDARD
TZOFFSETFROM:-0200
TZOFFSETTO:-0300
TZNAME:-03
DTSTART:20180218T020000
END:STANDARD
BEGIN:DAYLIGHT
TZOFFSETFROM:-0300
TZOFFSETTO:-0200
TZNAME:-02
DTSTART:20181104T030000
END:DAYLIGHT
BEGIN:STANDARD
TZOFFSETFROM:-0200
TZOFFSETTO:-0300
TZNAME:-03
DTSTART:20190217T020000
END:STANDARD
END:VTIMEZONE
BEGIN:VEVENT
DTSTART;VALUE=DATE:20181117
DTEND;VALUE=DATE:20181118
DTSTAMP:20260424T204148
CREATED:20181121T181506Z
LAST-MODIFIED:20181121T181506Z
UID:4402-1542412800-1542499199@pecantigo.com.br
SUMMARY:CURSO DE IMERSÃO MARPE | PECLAB
DESCRIPTION:MARPE\nCurso de Imersão MARPE ministrado pelo professor Dr. Túlio Andrade. \n  \n 
URL:https://pecantigo.com.br/agenda/curso-imersao-marpe-tulio-andrade-slice/
LOCATION:: Clínica Slice
CATEGORIES:Minas Gerais
ATTACH;FMTTYPE=image/jpeg:https://pecantigo.com.br/wp-content/uploads/2018/11/IMG-20181107-WA0005.jpg
END:VEVENT
BEGIN:VEVENT
DTSTART;VALUE=DATE:20181116
DTEND;VALUE=DATE:20181118
DTSTAMP:20260424T204148
CREATED:20181121T181958Z
LAST-MODIFIED:20181121T181958Z
UID:4407-1542326400-1542499199@pecantigo.com.br
SUMMARY:CURSO DE MINI-IMPLANTE EXTRA-ALVEOLAR | PECLAB
DESCRIPTION:MINI-IMPLANTE\nCurso de Mini-Implante Extra-Alveolar ministrado pelo professor Dr. Christian Reis. \n 
URL:https://pecantigo.com.br/agenda/curso-mini-implante-extra-alveolar-christian-reis/
LOCATION:Instituto Líder
CATEGORIES:Bahia
END:VEVENT
BEGIN:VEVENT
DTSTART;VALUE=DATE:20181115
DTEND;VALUE=DATE:20181118
DTSTAMP:20260424T204148
CREATED:20181121T182355Z
LAST-MODIFIED:20181121T182355Z
UID:4410-1542240000-1542499199@pecantigo.com.br
SUMMARY:CURSO DE MINI-IMPLANTES INTER E EXTRA - RADICULAR | PECLAB
DESCRIPTION:MINI-IMPLANTES\nCurso de Mini-Implantes Inter e Extra – Radicular ministrado pelo professor Dr. Eduardo Macluf. \n  \n 
URL:https://pecantigo.com.br/agenda/curso-mini-implantes-inter-extra-radicular-macluf-chile/
LOCATION:Universidad Andres Bello/Santiago – Chile\, Chile
END:VEVENT
BEGIN:VEVENT
DTSTART;VALUE=DATE:20181112
DTEND;VALUE=DATE:20181113
DTSTAMP:20260424T204148
CREATED:20181121T180904Z
LAST-MODIFIED:20181121T181111Z
UID:4397-1541980800-1542067199@pecantigo.com.br
SUMMARY:CURSO DE APERFEIÇOAMENTO EM ORTODONTIA | PECLAB
DESCRIPTION:Aperfeiçoamento\nCurso de Aperfeiçoamento em Ortodontia proferido pela professora Dra. Leniana Santos Neves. \n 
URL:https://pecantigo.com.br/agenda/curso-aperfeicoamento-ortodontia-leniana-santos/
LOCATION:UFMG/Belo Horizonte
END:VEVENT
BEGIN:VEVENT
DTSTART;VALUE=DATE:20181110
DTEND;VALUE=DATE:20181111
DTSTAMP:20260424T204148
CREATED:20181121T180217Z
LAST-MODIFIED:20181121T181131Z
UID:4392-1541808000-1541894399@pecantigo.com.br
SUMMARY:CURSO DE MINI-IMPLANTES INTER-RADICULARES E EXTRA-ALVEOLARES | PECLAB
DESCRIPTION:Radiculares e Extra-Alveolares\nCurso de Mini-Implantes Inter-radiculares e Extra-Alveolares proferido pelo professor Dr. Lúcio Henrique E. Gurgel Maia. \n  \n 
URL:https://pecantigo.com.br/agenda/curso-de-mini-implantes-inter-radiculares-e-extra-alveolares-peclab/
LOCATION:CAP/Aracaju – SE
CATEGORIES:Sergipe
ATTACH;FMTTYPE=image/jpeg:https://pecantigo.com.br/wp-content/uploads/2018/11/Lucio-Maia-132.18SE.jpeg
END:VEVENT
END:VCALENDAR