BEGIN:VCALENDAR
VERSION:2.0
PRODID:-//Peclab - ECPv6.15.11//NONSGML v1.0//EN
CALSCALE:GREGORIAN
METHOD:PUBLISH
X-WR-CALNAME:Peclab
X-ORIGINAL-URL:https://pecantigo.com.br
X-WR-CALDESC:Eventos para Peclab
REFRESH-INTERVAL;VALUE=DURATION:PT1H
X-Robots-Tag:noindex
X-PUBLISHED-TTL:PT1H
BEGIN:VTIMEZONE
TZID:America/Sao_Paulo
BEGIN:STANDARD
TZOFFSETFROM:-0200
TZOFFSETTO:-0300
TZNAME:-03
DTSTART:20180218T020000
END:STANDARD
BEGIN:DAYLIGHT
TZOFFSETFROM:-0300
TZOFFSETTO:-0200
TZNAME:-02
DTSTART:20181104T030000
END:DAYLIGHT
BEGIN:STANDARD
TZOFFSETFROM:-0200
TZOFFSETTO:-0300
TZNAME:-03
DTSTART:20190217T020000
END:STANDARD
END:VTIMEZONE
BEGIN:VEVENT
DTSTART;VALUE=DATE:20191129
DTEND;VALUE=DATE:20191201
DTSTAMP:20260423T080825
CREATED:20190925T130221Z
LAST-MODIFIED:20190925T130221Z
UID:6771-1574985600-1575158399@pecantigo.com.br
SUMMARY:CURSO INTENSIVO DE BIOMECÂNICA ORTODÔNTICA | PECLAB
DESCRIPTION:Curso Intensivo de Biomecânica Ortodôntica ministrado pelo professor Dr. Hideo Suzuki. \nContatos: \n11 9 9650 6426 Cristiano\n11 9 8268 5867 Sayuri Suzuki
URL:https://pecantigo.com.br/agenda/curso-intensivo-de-biomecanica-ortodontica-peclab/
LOCATION:Orthocamp Campinas – SP
CATEGORIES:São Paulo
END:VEVENT
BEGIN:VEVENT
DTSTART;VALUE=DATE:20191128
DTEND;VALUE=DATE:20191130
DTSTAMP:20260423T080825
CREATED:20190925T130458Z
LAST-MODIFIED:20190925T130458Z
UID:6774-1574899200-1575071999@pecantigo.com.br
SUMMARY:IMERSÃO EM MINI-IMPLANTES EXTRA-ALVEOLARES E MARPE | PECLAB
DESCRIPTION:Imersão em Mini-Implantes Extra-Alveolares e MARPE ministrado pelo professor Dr. Otávio Augusto Pozza. \nContato: 46 3224 2553
URL:https://pecantigo.com.br/agenda/imersao-em-mini-implantes-extra-alveolares-e-marpe-peclab/
LOCATION:BIONEP Pato Branco – PR
CATEGORIES:Paraná
END:VEVENT
BEGIN:VEVENT
DTSTART;VALUE=DATE:20191125
DTEND;VALUE=DATE:20191126
DTSTAMP:20260423T080825
CREATED:20191106T141456Z
LAST-MODIFIED:20191106T141654Z
UID:7083-1574640000-1574726399@pecantigo.com.br
SUMMARY:CAPACITAÇÃO EM MINI-IMPLANTES | PECLAB
DESCRIPTION:Capacitação em Mini-Implantes ministrado pelo professor João Manoel Pezzini.
URL:https://pecantigo.com.br/agenda/capacitacao-em-mini-implantes-peclab/
CATEGORIES:Paraná
ATTACH;FMTTYPE=image/png:https://pecantigo.com.br/wp-content/uploads/2019/11/CURSO-MARPE-1.png
END:VEVENT
BEGIN:VEVENT
DTSTART;VALUE=DATE:20191125
DTEND;VALUE=DATE:20191126
DTSTAMP:20260423T080825
CREATED:20191101T130752Z
LAST-MODIFIED:20191101T130752Z
UID:7037-1574640000-1574726399@pecantigo.com.br
SUMMARY:MINI-IMPLANTES E DISJUNÇÃO APOIADA | PECLAB
DESCRIPTION:Capacitação em Mini-Implantes\, Intra-Alveolares\, Extra-Alveolares e Disjunção apoiada em Mini-Implantes ministrado pelo professor Dr. João Manoel Pezzini. \nContato: 45 3037 2777
URL:https://pecantigo.com.br/agenda/mini-implantes-e-disjuncao-apoiada-peclab/
LOCATION:Logos Odontologia  Cascavel – PR 
CATEGORIES:Paraná
END:VEVENT
BEGIN:VEVENT
DTSTART;VALUE=DATE:20191123
DTEND;VALUE=DATE:20191124
DTSTAMP:20260423T080825
CREATED:20191101T130535Z
LAST-MODIFIED:20191101T130535Z
UID:7034-1574467200-1574553599@pecantigo.com.br
SUMMARY:CURSO DE IMERSÃO EM MARPE | PECLAB
DESCRIPTION:Imersão em MARPE ministrado pelo Dr. Marcelo Trévia. \nContato: 85 9 9973 2312
URL:https://pecantigo.com.br/agenda/curso-de-imersao-em-marpe-peclab/
LOCATION:ABO – CE  Fortaleza – CE
CATEGORIES:Ceará
END:VEVENT
BEGIN:VEVENT
DTSTART;VALUE=DATE:20191122
DTEND;VALUE=DATE:20191124
DTSTAMP:20260423T080825
CREATED:20191101T130400Z
LAST-MODIFIED:20191101T130400Z
UID:7031-1574380800-1574553599@pecantigo.com.br
SUMMARY:IMERSÃO EM MINI-IMPLANTES EXTRA RADICULARES E MARPE | PECLAB
DESCRIPTION:Imersão em Mini-Implantes Extra Radiculares e MARPE ministrado pelo Dr. Sérgio Cury. \nContato: \n71 9 9346 8800
URL:https://pecantigo.com.br/agenda/imersao-em-mini-implantes-extra-radiculares-e-marpe-peclab/
LOCATION:IMPLO Salvador – BA
CATEGORIES:Bahia
END:VEVENT
BEGIN:VEVENT
DTSTART;VALUE=DATE:20191122
DTEND;VALUE=DATE:20191124
DTSTAMP:20260423T080825
CREATED:20191015T143825Z
LAST-MODIFIED:20191015T143825Z
UID:6916-1574380800-1574553599@pecantigo.com.br
SUMMARY:ANCORAGEM ABSOLUTA E MECÂNICA ORTODÔNTICA CONTEMPORÂNEO | PECLAB
DESCRIPTION:
URL:https://pecantigo.com.br/agenda/ancoragem-absoluta-e-mecanica-ortodontica-contemporaneo-peclab/
LOCATION:Belo Horizonte – MG
CATEGORIES:Minas Gerais
ATTACH;FMTTYPE=image/jpeg:https://pecantigo.com.br/wp-content/uploads/2019/10/WhatsApp-Image-2019-10-03-at-17.38.49-2.jpeg
END:VEVENT
BEGIN:VEVENT
DTSTART;VALUE=DATE:20191122
DTEND;VALUE=DATE:20191123
DTSTAMP:20260423T080825
CREATED:20190925T130032Z
LAST-MODIFIED:20190925T130032Z
UID:6768-1574380800-1574467199@pecantigo.com.br
SUMMARY:CURSO DA TÉCNICA MARPE | PECLAB
DESCRIPTION:Curso da Técnica MARPE proferido pelo professor Dr. Fernando Manhães. \nContato: 32 9 8848 7975
URL:https://pecantigo.com.br/agenda/curso-da-tecnica-marpe-peclab-manhaes-2/
LOCATION:IEEP  Manaus – AM 
CATEGORIES:Amazonas
END:VEVENT
BEGIN:VEVENT
DTSTART;VALUE=DATE:20191121
DTEND;VALUE=DATE:20191122
DTSTAMP:20260423T080825
CREATED:20190925T125825Z
LAST-MODIFIED:20190925T125825Z
UID:6765-1574294400-1574380799@pecantigo.com.br
SUMMARY:CURSO DE MINI-IMPLANTES SEM COMPLICAÇÃO | PECLAB
DESCRIPTION:Curso de Mini-Implantes sem Complicação ministrado pelo professor Dr. Daniel Figueiredo. \nContato: 73 9 9939 2554
URL:https://pecantigo.com.br/agenda/curso-de-mini-implantes-sem-complicacao-peclab/
LOCATION:Itabuna – BA
CATEGORIES:Bahia
END:VEVENT
BEGIN:VEVENT
DTSTART;VALUE=DATE:20191118
DTEND;VALUE=DATE:20191120
DTSTAMP:20260423T080825
CREATED:20190925T125641Z
LAST-MODIFIED:20190925T125641Z
UID:6762-1574035200-1574207999@pecantigo.com.br
SUMMARY:IMERSÃO EM MINI-IMPLANTES | PECLAB
DESCRIPTION:Imersão em Mini-Implantes ministrado pelo professor Dr. Rodrigo Romano. \nContatos: \n31 2536 3437\n32 9 8887 0688
URL:https://pecantigo.com.br/agenda/imersao-em-mini-implantes-peclab-romano/
LOCATION:Hotel Trade Juiz de Fora – MG
CATEGORIES:Minas Gerais
END:VEVENT
BEGIN:VEVENT
DTSTART;VALUE=DATE:20191111
DTEND;VALUE=DATE:20191113
DTSTAMP:20260423T080825
CREATED:20191101T130016Z
LAST-MODIFIED:20191101T130016Z
UID:7028-1573430400-1573603199@pecantigo.com.br
SUMMARY:ANCORAGEM ESQUELÉTICA  COM MINI-IMPLANTES DE TITÂNIO | PECLAB
DESCRIPTION:Curso Avançado em Ancoragem Esquelética com Mini-Placas e Mini-Implantes de Titânio e Corticotomia ministrado pelo Dr. Francisco Nogueira. \nContatos: \n62 3941 6060\n62 9 7401 8121
URL:https://pecantigo.com.br/agenda/ancoragem-esqueletica-com-mini-implantes-de-titanio-peclab/
LOCATION:Instituto Kenedy de Odontologia Goiânia – GO
CATEGORIES:Goiás
END:VEVENT
BEGIN:VEVENT
DTSTART;VALUE=DATE:20191108
DTEND;VALUE=DATE:20191109
DTSTAMP:20260423T080825
CREATED:20190925T185610Z
LAST-MODIFIED:20190925T185610Z
UID:6794-1573171200-1573257599@pecantigo.com.br
SUMMARY:CURSO DE MARPE | PECLAB
DESCRIPTION:Curso de MARPE ministrado pelo professor Dr. Júlio de Araújo Gurgel. \nContato: (14) 9 8144 5877
URL:https://pecantigo.com.br/agenda/curso-de-marpe-peclab-julio-gurgel/
LOCATION:Instituto Pós Saúde (São Luís – MA)
CATEGORIES:Maranhão
END:VEVENT
BEGIN:VEVENT
DTSTART;VALUE=DATE:20191102
DTEND;VALUE=DATE:20191103
DTSTAMP:20260423T080825
CREATED:20191007T183541Z
LAST-MODIFIED:20191007T183541Z
UID:6874-1572652800-1572739199@pecantigo.com.br
SUMMARY:TEÓRICO\, LAB. E CLÍNICO DE MINI-IMPLANTES ORTODÔNTICOS | PECLAB
DESCRIPTION: Teórico\, laboratorial e clínico de Mini Implantes Ortodônticos ministrado pelo professor Dr. Anderson Kikuchi. \nContato: 91 9 8393 0780
URL:https://pecantigo.com.br/agenda/teorico-lab-e-clinico-de-mini-implantes-ortodonticos-peclab/
LOCATION:Castanhal – PA
CATEGORIES:Pará
END:VEVENT
BEGIN:VEVENT
DTSTART;VALUE=DATE:20191102
DTEND;VALUE=DATE:20191103
DTSTAMP:20260423T080825
CREATED:20191007T183353Z
LAST-MODIFIED:20191007T183353Z
UID:6871-1572652800-1572739199@pecantigo.com.br
SUMMARY:IMERSÃO EM MARPE | PECLAB
DESCRIPTION: Imersão em MARPE ministrado pelo professor Dr. Wilson Maia. \nContato: 92 3584 6815 / 92 9 8118 7755 / 92 9 8100 3300
URL:https://pecantigo.com.br/agenda/imersao-em-marpe-peclab/
LOCATION:Ident (Manaus – AM)
CATEGORIES:Amazonas
END:VEVENT
BEGIN:VEVENT
DTSTART;VALUE=DATE:20191030
DTEND;VALUE=DATE:20191103
DTSTAMP:20260423T080825
CREATED:20191007T123854Z
LAST-MODIFIED:20191007T123854Z
UID:6856-1572393600-1572739199@pecantigo.com.br
SUMMARY:IMERSÃO EM MINI-IMPLANTES E MARPE | PECLAB
DESCRIPTION: Imersão em Mini-Implantes e MARPE ministrado pelos professores Dr. Daniel Figueiredo e Dr. Túlio Andrade. \nContato: 31 9 9386 9544
URL:https://pecantigo.com.br/agenda/imersao-mini-implantes-marpe-daniel-f-tulio-a/
LOCATION:Orthodontic World (Porto Alegre – RS)
CATEGORIES:Rio Grande do Sul
ATTACH;FMTTYPE=image/jpeg:https://pecantigo.com.br/wp-content/uploads/2019/10/Curso-216.19RS.jpeg
END:VEVENT
BEGIN:VEVENT
DTSTART;VALUE=DATE:20191028
DTEND;VALUE=DATE:20191029
DTSTAMP:20260423T080825
CREATED:20191007T124024Z
LAST-MODIFIED:20191007T124024Z
UID:6860-1572220800-1572307199@pecantigo.com.br
SUMMARY:MASTER EM ORTODONTIA | PECLAB
DESCRIPTION: Master em Ortodontia proferido pelo Dr. Fernando Pedrin. \nContato: 14 9 8114 2469
URL:https://pecantigo.com.br/agenda/master-em-ortodontia-peclab/
LOCATION:V&G Funort (Bauru – SP)
CATEGORIES:São Paulo
END:VEVENT
BEGIN:VEVENT
DTSTART;VALUE=DATE:20191028
DTEND;VALUE=DATE:20191030
DTSTAMP:20260423T080825
CREATED:20190925T125441Z
LAST-MODIFIED:20190925T125441Z
UID:6759-1572220800-1572393599@pecantigo.com.br
SUMMARY:CURSO DE IMERSÃO EM MARPE | PECLAB
DESCRIPTION:Curso de Imersão em MARPE ministrado pelo professor Dr. Wilson Maia Jr.. \nContato: 92 9 8100 3300
URL:https://pecantigo.com.br/agenda/curso-de-imersao-em-marpe-peclab-wilson-maia/
LOCATION:IDENT Manaus – AM
CATEGORIES:Amazonas
END:VEVENT
BEGIN:VEVENT
DTSTART;VALUE=DATE:20191028
DTEND;VALUE=DATE:20191030
DTSTAMP:20260423T080825
CREATED:20190925T125246Z
LAST-MODIFIED:20190925T125246Z
UID:6756-1572220800-1572393599@pecantigo.com.br
SUMMARY:CURSO DE IMERSÃO EM MINI-IMPLANTES ORTODÔNTICOS | PECLAB
DESCRIPTION:Curso de Imersão em Mini-Implantes Ortodônticos ministrado pelo Dr. Henrique Damian Rosário. \nContato:  48 9 9164 9154
URL:https://pecantigo.com.br/agenda/curso-de-imersao-em-mini-implantes-ortodonticos-peclab/
LOCATION:UNIQUE CURSOS São José – SC
CATEGORIES:Santa Catarina
END:VEVENT
BEGIN:VEVENT
DTSTART;VALUE=DATE:20191025
DTEND;VALUE=DATE:20191026
DTSTAMP:20260423T080825
CREATED:20190925T124956Z
LAST-MODIFIED:20190925T124956Z
UID:6753-1571961600-1572047999@pecantigo.com.br
SUMMARY:CLÍNICA DE MINI-IMPLANTES EXTRA-ALVEOLARES | PECLAB
DESCRIPTION:Clínica de Mini Implantes e Extra-Alveolares  ministrado pelo Dr. Eduardo Macluf. \nContato: 19 3254 1940
URL:https://pecantigo.com.br/agenda/clinica-de-mini-implantes-extra-alveolares-peclab/
LOCATION:CEREO – ESCOLA  Campinas – SP
CATEGORIES:São Paulo
END:VEVENT
BEGIN:VEVENT
DTSTART;VALUE=DATE:20191024
DTEND;VALUE=DATE:20191025
DTSTAMP:20260423T080825
CREATED:20190925T124821Z
LAST-MODIFIED:20190925T124821Z
UID:6750-1571875200-1571961599@pecantigo.com.br
SUMMARY:ESPECIALIZAÇÃO EM ORTODONTIA | PECLAB
DESCRIPTION:Especialização em Ortodontia ministrado pelo Dr. Andres Fernando Arana. \nContatos: \n41 3016 1930\n41 9 9808 0020
URL:https://pecantigo.com.br/agenda/especializacao-em-ortodontia-peclab-andres-fernando/
LOCATION:Faculdade Herrero
END:VEVENT
BEGIN:VEVENT
DTSTART;VALUE=DATE:20191023
DTEND;VALUE=DATE:20191024
DTSTAMP:20260423T080825
CREATED:20190925T124620Z
LAST-MODIFIED:20190925T124620Z
UID:6747-1571788800-1571875199@pecantigo.com.br
SUMMARY:ESPECIALIZAÇÃO EM ORTODONTIA | PECLAB
DESCRIPTION:Especialização em Ortodontia ministrado pelo Dr. Marcelo Keiji Suzuki. \nContato: 11 9 7248 3881
URL:https://pecantigo.com.br/agenda/especializacao-em-ortodontia-peclab-marcelo-suzuki/
LOCATION:CEAO – ACIPE  São Paulo – SP
CATEGORIES:São Paulo
END:VEVENT
BEGIN:VEVENT
DTSTART;VALUE=DATE:20191020
DTEND;VALUE=DATE:20191021
DTSTAMP:20260423T080825
CREATED:20190925T124405Z
LAST-MODIFIED:20190925T124405Z
UID:6744-1571529600-1571615999@pecantigo.com.br
SUMMARY:ESPECIALIZAÇÃO EM ORTODONTIA | PECLAB
DESCRIPTION:Especialização em Ortodontia ministrado pelo professor Dr. Henrique Naoe. \nContato:  82 9 9922 5159
URL:https://pecantigo.com.br/agenda/especializacao-em-ortodontia-peclab-henrique-naoe/
LOCATION:NEO ODONTO  Maceió – AL 
CATEGORIES:Alagoas
END:VEVENT
BEGIN:VEVENT
DTSTART;VALUE=DATE:20191020
DTEND;VALUE=DATE:20191021
DTSTAMP:20260423T080825
CREATED:20190925T124207Z
LAST-MODIFIED:20190925T124207Z
UID:6741-1571529600-1571615999@pecantigo.com.br
SUMMARY:IMERSÃO EM MARPE | PECLAB
DESCRIPTION:Imersão em MARPE  ministrado pelo Dr. Marcelo Trévia. \nContatos: \n85 3511 6666\n85 9 9973 2312
URL:https://pecantigo.com.br/agenda/imersao-em-marpe-marcelo-trevia-peclab/
LOCATION:ABO – CE Fortaleza – CE
CATEGORIES:Ceará
END:VEVENT
BEGIN:VEVENT
DTSTART;VALUE=DATE:20191018
DTEND;VALUE=DATE:20191020
DTSTAMP:20260423T080825
CREATED:20190805T205907Z
LAST-MODIFIED:20190805T205921Z
UID:6352-1571356800-1571529599@pecantigo.com.br
SUMMARY:CURSO DE MINI-IMPLANTES E MARPE | PECLAB
DESCRIPTION:MARPE\nCurso de Mini-Implantes e MARPE ministrado pelos professores Dr. Daniel Figueiredo e Dr. Túlio Andrade.
URL:https://pecantigo.com.br/agenda/curso-de-mini-implantes-e-marpe-peclab-tulio-andrade-daniel-fig/
ATTACH;FMTTYPE=image/jpeg:https://pecantigo.com.br/wp-content/uploads/2019/08/Card-Insta-com-arraste-Curso-MARPE_18-19-OUT-parte-1-insta-feed-RECIFE.jpg
END:VEVENT
BEGIN:VEVENT
DTSTART;VALUE=DATE:20191014
DTEND;VALUE=DATE:20191016
DTSTAMP:20260423T080825
CREATED:20190925T123928Z
LAST-MODIFIED:20190925T123928Z
UID:6738-1571011200-1571183999@pecantigo.com.br
SUMMARY:IMERSÃO EM MINI-IMPLANTES\, PLANEJAMENTO\, INSERÇÃO E BIOMECÂNICA | PECLAB
DESCRIPTION:Imersão em Mini-Implantes\, Planejamento\, Inserção e Biomecânica ministrado pelo professor Dr. Lincoln Nojima. \nContato: 21 9 9949 2494
URL:https://pecantigo.com.br/agenda/imersao-em-mini-implantes-planejamento-insercao-e-biomecanica-peclab/
LOCATION:BARRA PRIME Rio de Janeiro – RJ
CATEGORIES:Rio de Janeiro
END:VEVENT
BEGIN:VEVENT
DTSTART;VALUE=DATE:20191014
DTEND;VALUE=DATE:20191016
DTSTAMP:20260423T080825
CREATED:20190401T133843Z
LAST-MODIFIED:20190514T184609Z
UID:5389-1571011200-1571183999@pecantigo.com.br
SUMMARY:IMERSÃO EM AE ORTODONTIA CONTEMPORÂNEA | PECLAB
DESCRIPTION:IMERSÃO\nImersão em Ancoragem Esquelética na Ortodontia Contemporânea ministrado pelo professor Dr. Daniel Giaretta Fangueiro. \nContato: 0800 941 7 941
URL:https://pecantigo.com.br/agenda/imersao-em-ae-ortodontia-contemp-daniel-fangueiro-slm/
LOCATION:São Leopoldo Mandic/Curitiba – PR 
CATEGORIES:Paraná
END:VEVENT
BEGIN:VEVENT
DTSTART;VALUE=DATE:20191009
DTEND;VALUE=DATE:20191013
DTSTAMP:20260423T080825
CREATED:20190812T185606Z
LAST-MODIFIED:20190812T190030Z
UID:6416-1570579200-1570924799@pecantigo.com.br
SUMMARY:12º ENCONTRO INTERNACIONAL DA ABOR 2019 | PECLAB
DESCRIPTION:12º Congresso Internacional da ABOR 2019.
URL:https://pecantigo.com.br/agenda/12o-encontro-internacional-da-abor-2019-peclab/
CATEGORIES:Rio de Janeiro
ATTACH;FMTTYPE=image/png:https://pecantigo.com.br/wp-content/uploads/2019/08/3BE19347-637C-46BE-8412-0514D53F098F-sheer-sh_image-e1565636148775.png
END:VEVENT
BEGIN:VEVENT
DTSTART;VALUE=DATE:20191005
DTEND;VALUE=DATE:20191006
DTSTAMP:20260423T080825
CREATED:20190925T123659Z
LAST-MODIFIED:20190925T123659Z
UID:6735-1570233600-1570319999@pecantigo.com.br
SUMMARY:HANDS ON PARA INSTALAÇÃO DO MARPE | PECLAB
DESCRIPTION:Hands on para instalação do MARPE ministrado pela professora Dra. Juliana Andriani. \nContato: \n48 3228 9246\n48 9 8452 8330
URL:https://pecantigo.com.br/agenda/hands-on-para-instalacao-do-marpe-peclab-juliana-andriani/
LOCATION:ABCD Magic School  Florianópolis – SC
CATEGORIES:Santa Catarina
END:VEVENT
BEGIN:VEVENT
DTSTART;VALUE=DATE:20191001
DTEND;VALUE=DATE:20191002
DTSTAMP:20260423T080825
CREATED:20190925T123510Z
LAST-MODIFIED:20190925T123510Z
UID:6732-1569888000-1569974399@pecantigo.com.br
SUMMARY:ESPECIALIZAÇÃO  EM ORTODONTIA | PECLAB
DESCRIPTION:Especialização em Ortodontia – Turma ESP 43 – ministrado pelo professor Dr. Bruno da Silva Vieira. \nContato: 31 3524 2555
URL:https://pecantigo.com.br/agenda/especializacao-em-ortodontia-peclab-bruno-vieira/
LOCATION:CETRO  Belo Horizonte – MG
CATEGORIES:Minas Gerais
END:VEVENT
BEGIN:VEVENT
DTSTART;VALUE=DATE:20190928
DTEND;VALUE=DATE:20190929
DTSTAMP:20260423T080825
CREATED:20190827T190247Z
LAST-MODIFIED:20190827T190247Z
UID:6500-1569628800-1569715199@pecantigo.com.br
SUMMARY:CURSO DA TÉCNICA MARPE | PECLAB
DESCRIPTION:Curso de MARPE ministrado pelo professor Dr. Fernando Manhães. \nInstituição: Fernando Manhães Cursos. \nEmail: fernando@fmanhaes.odo.br
URL:https://pecantigo.com.br/agenda/curso-da-tecnica-marpe-peclab-manhaes/
LOCATION:Instituição: Fernando Manhães Cursos
END:VEVENT
END:VCALENDAR